BEGIN:VCALENDAR
VERSION:2.0
PRODID:-//The Institute of Geologists of Ireland - ECPv4.6.3//NONSGML v1.0//EN
CALSCALE:GREGORIAN
METHOD:PUBLISH
X-WR-CALNAME:The Institute of Geologists of Ireland
X-ORIGINAL-URL:http://igi.ie
X-WR-CALDESC:Events for The Institute of Geologists of Ireland
BEGIN:VEVENT
DTSTART;VALUE=DATE:20171127
DTEND;VALUE=DATE:20171201
DTSTAMP:20171107T010002
CREATED:20170303T204031Z
LAST-MODIFIED:20171106T201112Z
UID:2486-1511740800-1512086399@igi.ie
SUMMARY:Geotechnical Soil and Rock Logging Course
DESCRIPTION:Geotechnical Soil and Rock Logging course\n \nCourse Aim and Outline:\nThe aim of the course is to impart on our younger geotechnical engineers/engineering geologists\, and those who may not have had formal logging training the process of logging and describing soil and rock in accordance with Eurocode 7 – BS 5930 so that they understand the standardisation of this\nprocess. It will be a hands on course with one day of each course focusing on soil logging and the following on rock core logging. Download Course Flyer \n\n\n\n\nFees\n\n\nIGI members (PGeo / MIT) €300.00 EURNon-IGI members (PGeo / MIT) €500.00 EURStudent members €100.00 EUR\n\n\n\n\n \n\n
URL:http://igi.ie/event/geotechnical-soil-and-rock-logging-to-eurocode-7-bs5930/
LOCATION:Haddington Rd\, Beggar's Bush\, Dublin\, Dublin 4\, D04 K7X4\, Ireland
CATEGORIES:Courses and Training,Event
END:VEVENT
END:VCALENDAR