BEGIN:VCALENDAR
VERSION:2.0
PRODID:-//The Institute of Geologists of Ireland - ECPv6.15.20//NONSGML v1.0//EN
CALSCALE:GREGORIAN
METHOD:PUBLISH
X-WR-CALNAME:The Institute of Geologists of Ireland
X-ORIGINAL-URL:https://igi.ie
X-WR-CALDESC:Events for The Institute of Geologists of Ireland
REFRESH-INTERVAL;VALUE=DURATION:PT1H
X-Robots-Tag:noindex
X-PUBLISHED-TTL:PT1H
BEGIN:VTIMEZONE
TZID:Europe/Dublin
BEGIN:STANDARD
TZOFFSETFROM:+0000
TZOFFSETTO:+0100
TZNAME:IST
DTSTART:20220327T010000
END:STANDARD
BEGIN:DAYLIGHT
TZOFFSETFROM:+0100
TZOFFSETTO:+0000
TZNAME:GMT
DTSTART:20221030T010000
END:DAYLIGHT
BEGIN:STANDARD
TZOFFSETFROM:+0000
TZOFFSETTO:+0100
TZNAME:IST
DTSTART:20230326T010000
END:STANDARD
BEGIN:DAYLIGHT
TZOFFSETFROM:+0100
TZOFFSETTO:+0000
TZNAME:GMT
DTSTART:20231029T010000
END:DAYLIGHT
BEGIN:STANDARD
TZOFFSETFROM:+0000
TZOFFSETTO:+0100
TZNAME:IST
DTSTART:20240331T010000
END:STANDARD
BEGIN:DAYLIGHT
TZOFFSETFROM:+0100
TZOFFSETTO:+0000
TZNAME:GMT
DTSTART:20241027T010000
END:DAYLIGHT
END:VTIMEZONE
BEGIN:VEVENT
DTSTART;TZID=Europe/Dublin:20230427T130000
DTEND;TZID=Europe/Dublin:20230427T130000
DTSTAMP:20260423T234220
CREATED:20230426T122536Z
LAST-MODIFIED:20230426T122536Z
UID:8689-1682600400-1682600400@igi.ie
SUMMARY:NUI Society of Economic Geologists (SEG) Student Chapter lecture
DESCRIPTION:“Selling Planet Earth – Communicating geoscience for society”  \nNUI Society of Economic Geologists (SEG) Student Chapter Zoom lecture this Thursday 27th April 2023 at 1pm. to be given by Prof. Iain Stewart. \nFurther details and how to register for this online lecture are shown in the flyer here \nFor further information\, please contact nui.seg@gmail.com
URL:https://igi.ie/event/nui-society-of-economic-geologists-seg-student-chapter-lecture/
LOCATION:ZOOM
CATEGORIES:Event,Lectures
END:VEVENT
END:VCALENDAR