BEGIN:VCALENDAR
VERSION:2.0
PRODID:-//The Institute of Geologists of Ireland - ECPv6.15.20//NONSGML v1.0//EN
CALSCALE:GREGORIAN
METHOD:PUBLISH
X-ORIGINAL-URL:https://igi.ie
X-WR-CALDESC:Events for The Institute of Geologists of Ireland
REFRESH-INTERVAL;VALUE=DURATION:PT1H
X-Robots-Tag:noindex
X-PUBLISHED-TTL:PT1H
BEGIN:VTIMEZONE
TZID:Europe/Dublin
BEGIN:STANDARD
TZOFFSETFROM:+0000
TZOFFSETTO:+0100
TZNAME:IST
DTSTART:20220327T010000
END:STANDARD
BEGIN:DAYLIGHT
TZOFFSETFROM:+0100
TZOFFSETTO:+0000
TZNAME:GMT
DTSTART:20221030T010000
END:DAYLIGHT
BEGIN:STANDARD
TZOFFSETFROM:+0000
TZOFFSETTO:+0100
TZNAME:IST
DTSTART:20230326T010000
END:STANDARD
BEGIN:DAYLIGHT
TZOFFSETFROM:+0100
TZOFFSETTO:+0000
TZNAME:GMT
DTSTART:20231029T010000
END:DAYLIGHT
BEGIN:STANDARD
TZOFFSETFROM:+0000
TZOFFSETTO:+0100
TZNAME:IST
DTSTART:20240331T010000
END:STANDARD
BEGIN:DAYLIGHT
TZOFFSETFROM:+0100
TZOFFSETTO:+0000
TZNAME:GMT
DTSTART:20241027T010000
END:DAYLIGHT
END:VTIMEZONE
BEGIN:VEVENT
DTSTART;TZID=Europe/Dublin:20230528T103000
DTEND;TZID=Europe/Dublin:20230528T103000
DTSTAMP:20260423T211632
CREATED:20230523T123544Z
LAST-MODIFIED:20230523T123544Z
UID:8778-1685269800-1685269800@igi.ie
SUMMARY:IGA / IAH Trip: Glen of the Downs Day Excursion
DESCRIPTION:Irish Geological Association (IGA) trip in association with International Association of Hydrogeologists (IAH) (Irish Group) \nSunday\, 28th May 2023 starting at 10:30am and running for approximately 4-5 hours. \nThe trip will be led by Dr. Alison Orr and Dr. Gerry Baker\, both of Arup.  \nFurther details of the content of the trip and a booking form can be found at this link https://geology.ie/event/irish-geological-association-international-association-of-hydrogeologists-irish-group/
URL:https://igi.ie/event/iga-iah-trip-glen-of-the-downs-day-excursion/
LOCATION:Glen of the Downs\, Co Wcklow\, Wicklow\, Ireland
CATEGORIES:Event
END:VEVENT
END:VCALENDAR