BEGIN:VCALENDAR
VERSION:2.0
PRODID:-//The Institute of Geologists of Ireland - ECPv6.15.20//NONSGML v1.0//EN
CALSCALE:GREGORIAN
METHOD:PUBLISH
X-ORIGINAL-URL:https://igi.ie
X-WR-CALDESC:Events for The Institute of Geologists of Ireland
REFRESH-INTERVAL;VALUE=DURATION:PT1H
X-Robots-Tag:noindex
X-PUBLISHED-TTL:PT1H
BEGIN:VTIMEZONE
TZID:Europe/Dublin
BEGIN:STANDARD
TZOFFSETFROM:+0000
TZOFFSETTO:+0100
TZNAME:IST
DTSTART:20220327T010000
END:STANDARD
BEGIN:DAYLIGHT
TZOFFSETFROM:+0100
TZOFFSETTO:+0000
TZNAME:GMT
DTSTART:20221030T010000
END:DAYLIGHT
BEGIN:STANDARD
TZOFFSETFROM:+0000
TZOFFSETTO:+0100
TZNAME:IST
DTSTART:20230326T010000
END:STANDARD
BEGIN:DAYLIGHT
TZOFFSETFROM:+0100
TZOFFSETTO:+0000
TZNAME:GMT
DTSTART:20231029T010000
END:DAYLIGHT
BEGIN:STANDARD
TZOFFSETFROM:+0000
TZOFFSETTO:+0100
TZNAME:IST
DTSTART:20240331T010000
END:STANDARD
BEGIN:DAYLIGHT
TZOFFSETFROM:+0100
TZOFFSETTO:+0000
TZNAME:GMT
DTSTART:20241027T010000
END:DAYLIGHT
END:VTIMEZONE
BEGIN:VEVENT
DTSTART;TZID=Europe/Dublin:20230628T180000
DTEND;TZID=Europe/Dublin:20230628T193000
DTSTAMP:20260423T184639
CREATED:20230601T155018Z
LAST-MODIFIED:20230601T155415Z
UID:8799-1687975200-1687980600@igi.ie
SUMMARY:AGM - Annual General Meeting of the Institute of Geologists of Ireland Limited
DESCRIPTION:The meeting will be a hybrid meeting whereby members will have the option of attending in person or remotely via Zoom. \nWe encourage those that can attend in person to do so and there will be a social reception in Merrion Square following the meeting.
URL:https://igi.ie/event/agm-annual-general-meeting-of-the-institute-of-geologists-of-ireland-limited/
LOCATION:IGI Offices\, No.63 Merrion Square\, Dublin and on ZOOM\, No.63 Merrion Square\, Dublin\, Ireland
CATEGORIES:Event
END:VEVENT
END:VCALENDAR