BEGIN:VCALENDAR
VERSION:2.0
PRODID:-//The Institute of Geologists of Ireland - ECPv6.15.20//NONSGML v1.0//EN
CALSCALE:GREGORIAN
METHOD:PUBLISH
X-ORIGINAL-URL:https://igi.ie
X-WR-CALDESC:Events for The Institute of Geologists of Ireland
REFRESH-INTERVAL;VALUE=DURATION:PT1H
X-Robots-Tag:noindex
X-PUBLISHED-TTL:PT1H
BEGIN:VTIMEZONE
TZID:Europe/Dublin
BEGIN:STANDARD
TZOFFSETFROM:+0000
TZOFFSETTO:+0100
TZNAME:IST
DTSTART:20220327T010000
END:STANDARD
BEGIN:DAYLIGHT
TZOFFSETFROM:+0100
TZOFFSETTO:+0000
TZNAME:GMT
DTSTART:20221030T010000
END:DAYLIGHT
BEGIN:STANDARD
TZOFFSETFROM:+0000
TZOFFSETTO:+0100
TZNAME:IST
DTSTART:20230326T010000
END:STANDARD
BEGIN:DAYLIGHT
TZOFFSETFROM:+0100
TZOFFSETTO:+0000
TZNAME:GMT
DTSTART:20231029T010000
END:DAYLIGHT
BEGIN:STANDARD
TZOFFSETFROM:+0000
TZOFFSETTO:+0100
TZNAME:IST
DTSTART:20240331T010000
END:STANDARD
BEGIN:DAYLIGHT
TZOFFSETFROM:+0100
TZOFFSETTO:+0000
TZNAME:GMT
DTSTART:20241027T010000
END:DAYLIGHT
END:VTIMEZONE
BEGIN:VEVENT
DTSTART;TZID=Europe/Dublin:20230714T110000
DTEND;TZID=Europe/Dublin:20230714T123000
DTSTAMP:20260423T184634
CREATED:20230712T114550Z
LAST-MODIFIED:20230712T114743Z
UID:8874-1689332400-1689337800@igi.ie
SUMMARY:Cuilcagh Lakelands Geopark event for families:  “Rock Detectives for International Rock Day”
DESCRIPTION: “Rock Detectives for International Rock Day”  \non Friday 14th July between 11:00am and 12:30pm. \nIt is suitable for children aged between 6 and 12 who will get a chance to see fossils\, learn about different types of rocks and make their own mini Earth to bring home. \nThe cost is €5 per child or €15 for 4. \nMore details and how to book can be found at this link Rock Detectives for International Rock Day | Cuilcagh Lakelands Geopark.
URL:https://igi.ie/event/cuilcagh-lakelands-geopark-event-for-families-rock-detectives-for-international-rock-day/
LOCATION:Cuilcagh Lakelands Geopark\, Cavan and Fermanagh\, Blacklion\,\, Co. Cavan\, Ireland
CATEGORIES:Event
END:VEVENT
END:VCALENDAR