BEGIN:VCALENDAR
VERSION:2.0
PRODID:-//The Institute of Geologists of Ireland - ECPv6.15.20//NONSGML v1.0//EN
CALSCALE:GREGORIAN
METHOD:PUBLISH
X-ORIGINAL-URL:https://igi.ie
X-WR-CALDESC:Events for The Institute of Geologists of Ireland
REFRESH-INTERVAL;VALUE=DURATION:PT1H
X-Robots-Tag:noindex
X-PUBLISHED-TTL:PT1H
BEGIN:VTIMEZONE
TZID:Europe/Dublin
BEGIN:STANDARD
TZOFFSETFROM:+0000
TZOFFSETTO:+0100
TZNAME:IST
DTSTART:20220327T010000
END:STANDARD
BEGIN:DAYLIGHT
TZOFFSETFROM:+0100
TZOFFSETTO:+0000
TZNAME:GMT
DTSTART:20221030T010000
END:DAYLIGHT
BEGIN:STANDARD
TZOFFSETFROM:+0000
TZOFFSETTO:+0100
TZNAME:IST
DTSTART:20230326T010000
END:STANDARD
BEGIN:DAYLIGHT
TZOFFSETFROM:+0100
TZOFFSETTO:+0000
TZNAME:GMT
DTSTART:20231029T010000
END:DAYLIGHT
BEGIN:STANDARD
TZOFFSETFROM:+0000
TZOFFSETTO:+0100
TZNAME:IST
DTSTART:20240331T010000
END:STANDARD
BEGIN:DAYLIGHT
TZOFFSETFROM:+0100
TZOFFSETTO:+0000
TZNAME:GMT
DTSTART:20241027T010000
END:DAYLIGHT
END:VTIMEZONE
BEGIN:VEVENT
DTSTART;TZID=Europe/Dublin:20230826T100000
DTEND;TZID=Europe/Dublin:20230826T100000
DTSTAMP:20260423T140514
CREATED:20230802T113829Z
LAST-MODIFIED:20230823T101847Z
UID:8895-1693044000-1693044000@igi.ie
SUMMARY:Belfast Geologists Society – Family Fun Day
DESCRIPTION:Belfast Geologists Society – Family Fun Day on Saturday 19th August. \nKaren Parks will lead a family fun day at Whitepark Bay \nto look at different rock types in the pebbles on the beach\, play some rock-related games and look for fossils. \nMeet at the YHA carpark at 10am. \nMore details available at this link Belfast Geologists Summer Programme.
URL:https://igi.ie/event/belfast-geologists-society-family-fun-day/
LOCATION:Whitepark Bay\, Ballycastle\, 157 Whitepark Rd\, Ballintoy\,\, Ballycastle\, BT54 6NH\, United Kingdom
CATEGORIES:Event
END:VEVENT
END:VCALENDAR