BEGIN:VCALENDAR
VERSION:2.0
PRODID:-//The Institute of Geologists of Ireland - ECPv6.15.20//NONSGML v1.0//EN
CALSCALE:GREGORIAN
METHOD:PUBLISH
X-WR-CALNAME:The Institute of Geologists of Ireland
X-ORIGINAL-URL:https://igi.ie
X-WR-CALDESC:Events for The Institute of Geologists of Ireland
REFRESH-INTERVAL;VALUE=DURATION:PT1H
X-Robots-Tag:noindex
X-PUBLISHED-TTL:PT1H
BEGIN:VTIMEZONE
TZID:Europe/Dublin
BEGIN:STANDARD
TZOFFSETFROM:+0000
TZOFFSETTO:+0100
TZNAME:IST
DTSTART:20220327T010000
END:STANDARD
BEGIN:DAYLIGHT
TZOFFSETFROM:+0100
TZOFFSETTO:+0000
TZNAME:GMT
DTSTART:20221030T010000
END:DAYLIGHT
BEGIN:STANDARD
TZOFFSETFROM:+0000
TZOFFSETTO:+0100
TZNAME:IST
DTSTART:20230326T010000
END:STANDARD
BEGIN:DAYLIGHT
TZOFFSETFROM:+0100
TZOFFSETTO:+0000
TZNAME:GMT
DTSTART:20231029T010000
END:DAYLIGHT
BEGIN:STANDARD
TZOFFSETFROM:+0000
TZOFFSETTO:+0100
TZNAME:IST
DTSTART:20240331T010000
END:STANDARD
BEGIN:DAYLIGHT
TZOFFSETFROM:+0100
TZOFFSETTO:+0000
TZNAME:GMT
DTSTART:20241027T010000
END:DAYLIGHT
END:VTIMEZONE
BEGIN:VEVENT
DTSTART;TZID=Europe/Dublin:20230922T170000
DTEND;TZID=Europe/Dublin:20230922T213000
DTSTAMP:20260423T075803
CREATED:20230920T113540Z
LAST-MODIFIED:20230920T113540Z
UID:9010-1695402000-1695418200@igi.ie
SUMMARY:Culture Night – DIAS Geophysics event: “Earthquakes and Other Geohazards”
DESCRIPTION:The Geophysics Section of the Dublin Institute for Advanced Studies (DIAS) is holding a talk / workshop entitled “Earthquakes and Other Geohazards” \nat 5 Merrion Square North\, Dublin D02 Y006. \nFriday\, 22nd September between 5pm and 9:30pm. \nNo booking is required for this event. More information on Culture Night website Earthquakes and Other Geohazards • Culture Night
URL:https://igi.ie/event/culture-night-dias-geophysics-event-earthquakes-and-other-geohazards/
LOCATION:5 Merrion Square North\, Dublin\, D02 Y006\, Ireland
CATEGORIES:Event
END:VEVENT
END:VCALENDAR