BEGIN:VCALENDAR
VERSION:2.0
PRODID:-//The Institute of Geologists of Ireland - ECPv6.15.20//NONSGML v1.0//EN
CALSCALE:GREGORIAN
METHOD:PUBLISH
X-WR-CALNAME:The Institute of Geologists of Ireland
X-ORIGINAL-URL:https://igi.ie
X-WR-CALDESC:Events for The Institute of Geologists of Ireland
REFRESH-INTERVAL;VALUE=DURATION:PT1H
X-Robots-Tag:noindex
X-PUBLISHED-TTL:PT1H
BEGIN:VTIMEZONE
TZID:Europe/Dublin
BEGIN:STANDARD
TZOFFSETFROM:+0000
TZOFFSETTO:+0100
TZNAME:IST
DTSTART:20220327T010000
END:STANDARD
BEGIN:DAYLIGHT
TZOFFSETFROM:+0100
TZOFFSETTO:+0000
TZNAME:GMT
DTSTART:20221030T010000
END:DAYLIGHT
BEGIN:STANDARD
TZOFFSETFROM:+0000
TZOFFSETTO:+0100
TZNAME:IST
DTSTART:20230326T010000
END:STANDARD
BEGIN:DAYLIGHT
TZOFFSETFROM:+0100
TZOFFSETTO:+0000
TZNAME:GMT
DTSTART:20231029T010000
END:DAYLIGHT
BEGIN:STANDARD
TZOFFSETFROM:+0000
TZOFFSETTO:+0100
TZNAME:IST
DTSTART:20240331T010000
END:STANDARD
BEGIN:DAYLIGHT
TZOFFSETFROM:+0100
TZOFFSETTO:+0000
TZNAME:GMT
DTSTART:20241027T010000
END:DAYLIGHT
END:VTIMEZONE
BEGIN:VEVENT
DTSTART;TZID=Europe/Dublin:20230925T173000
DTEND;TZID=Europe/Dublin:20230925T173000
DTSTAMP:20260423T054615
CREATED:20230913T132608Z
LAST-MODIFIED:20230913T151530Z
UID:8990-1695663000-1695663000@igi.ie
SUMMARY:Society of Petroleum Engineers Distinguished Lecturer 2023-24 Lecture Season
DESCRIPTION:begins Monday 25th September at 5:30pm \n“Carbon Capture and Storage and the CO2 storage resources management system (SRMS)”. \nlecture by Rawdon Seager \nThe talk will take place in the auditorium of the Student Village in UCD\, Belfield (53°18’13.1″N 6°13’06.2″W – Google Maps Google map link 53°18’13.1″N 6°13’06.2″W – Google Maps). \nFurther details can be obtained by emailing Jonathan Leather jonathan.leather@uogplc.com.
URL:https://igi.ie/event/society-of-petroleum-engineers-distinguished-lecturer-2023-24-lecture-season/
LOCATION:University College Dublin\, Belfield\, Dublin 4\, Ireland
CATEGORIES:Event
END:VEVENT
END:VCALENDAR