BEGIN:VCALENDAR
VERSION:2.0
PRODID:-//The Institute of Geologists of Ireland - ECPv6.15.20//NONSGML v1.0//EN
CALSCALE:GREGORIAN
METHOD:PUBLISH
X-ORIGINAL-URL:https://igi.ie
X-WR-CALDESC:Events for The Institute of Geologists of Ireland
REFRESH-INTERVAL;VALUE=DURATION:PT1H
X-Robots-Tag:noindex
X-PUBLISHED-TTL:PT1H
BEGIN:VTIMEZONE
TZID:Europe/Dublin
BEGIN:STANDARD
TZOFFSETFROM:+0000
TZOFFSETTO:+0100
TZNAME:IST
DTSTART:20220327T010000
END:STANDARD
BEGIN:DAYLIGHT
TZOFFSETFROM:+0100
TZOFFSETTO:+0000
TZNAME:GMT
DTSTART:20221030T010000
END:DAYLIGHT
BEGIN:STANDARD
TZOFFSETFROM:+0000
TZOFFSETTO:+0100
TZNAME:IST
DTSTART:20230326T010000
END:STANDARD
BEGIN:DAYLIGHT
TZOFFSETFROM:+0100
TZOFFSETTO:+0000
TZNAME:GMT
DTSTART:20231029T010000
END:DAYLIGHT
BEGIN:STANDARD
TZOFFSETFROM:+0000
TZOFFSETTO:+0100
TZNAME:IST
DTSTART:20240331T010000
END:STANDARD
BEGIN:DAYLIGHT
TZOFFSETFROM:+0100
TZOFFSETTO:+0000
TZNAME:GMT
DTSTART:20241027T010000
END:DAYLIGHT
END:VTIMEZONE
BEGIN:VEVENT
DTSTART;TZID=Europe/Dublin:20230927T123000
DTEND;TZID=Europe/Dublin:20230927T140000
DTSTAMP:20260423T042815
CREATED:20230913T114408Z
LAST-MODIFIED:20230913T114408Z
UID:8971-1695817800-1695823200@igi.ie
SUMMARY:IGI Contaminated Land Training Series webinar
DESCRIPTION:“Introduction to Contaminated Land and the Risk Assessment Process” \nby Christopher Newton and Owen Williams. \non Wednesday 27th September at 12:30pm to 2pm via Zoom. \nPre-register for this training series by emailing info@igi.ie. \nMore details are available on the flyer here.
URL:https://igi.ie/event/igi-contaminated-land-training-series-webinar/
LOCATION:ZOOM
CATEGORIES:Event
END:VEVENT
BEGIN:VEVENT
DTSTART;TZID=Europe/Dublin:20230927T190000
DTEND;TZID=Europe/Dublin:20230927T200000
DTSTAMP:20260423T042815
CREATED:20230920T121737Z
LAST-MODIFIED:20230920T122357Z
UID:9014-1695841200-1695844800@igi.ie
SUMMARY:Irish Geological Association (IGA) Lecture: “My Journey with Pegmatites – From India to Malawi”
DESCRIPTION:given by Dr. Tuhin Chakraborty\, of iCRAG and University College Cork. \nWednesday 27th September between 7pm and 8pm \nRegister for this talk by sending an email to IGA at info@geology.ie. \nFor further details please see flyer here
URL:https://igi.ie/event/irish-geological-association-iga-lecture-my-journey-with-pegmatites-from-india-to-malawi/
LOCATION:ZOOM
CATEGORIES:Event
END:VEVENT
END:VCALENDAR