BEGIN:VCALENDAR
VERSION:2.0
PRODID:-//The Institute of Geologists of Ireland - ECPv6.15.20//NONSGML v1.0//EN
CALSCALE:GREGORIAN
METHOD:PUBLISH
X-WR-CALNAME:The Institute of Geologists of Ireland
X-ORIGINAL-URL:https://igi.ie
X-WR-CALDESC:Events for The Institute of Geologists of Ireland
REFRESH-INTERVAL;VALUE=DURATION:PT1H
X-Robots-Tag:noindex
X-PUBLISHED-TTL:PT1H
BEGIN:VTIMEZONE
TZID:Europe/Dublin
BEGIN:STANDARD
TZOFFSETFROM:+0000
TZOFFSETTO:+0100
TZNAME:IST
DTSTART:20220327T010000
END:STANDARD
BEGIN:DAYLIGHT
TZOFFSETFROM:+0100
TZOFFSETTO:+0000
TZNAME:GMT
DTSTART:20221030T010000
END:DAYLIGHT
BEGIN:STANDARD
TZOFFSETFROM:+0000
TZOFFSETTO:+0100
TZNAME:IST
DTSTART:20230326T010000
END:STANDARD
BEGIN:DAYLIGHT
TZOFFSETFROM:+0100
TZOFFSETTO:+0000
TZNAME:GMT
DTSTART:20231029T010000
END:DAYLIGHT
BEGIN:STANDARD
TZOFFSETFROM:+0000
TZOFFSETTO:+0100
TZNAME:IST
DTSTART:20240331T010000
END:STANDARD
BEGIN:DAYLIGHT
TZOFFSETFROM:+0100
TZOFFSETTO:+0000
TZNAME:GMT
DTSTART:20241027T010000
END:DAYLIGHT
END:VTIMEZONE
BEGIN:VEVENT
DTSTART;TZID=Europe/Dublin:20230928T183000
DTEND;TZID=Europe/Dublin:20230928T210000
DTSTAMP:20260423T054618
CREATED:20230830T120923Z
LAST-MODIFIED:20230830T122137Z
UID:8934-1695925800-1695934800@igi.ie
SUMMARY:GSI Researchers’ Night 2023
DESCRIPTION:Save the date for this event in UCC to mark European Researchers’ Night 2023. \nThree Cork-based geoscience researchers\, Dr. Jean O’Dwyer\, Hannah Binner and Dr. Chris Mays\, will give a short presentation about their recent work. \nThe event is free\, but registration is required. \nMore details are available on Geological Survey Ireland’s website at this link: GSI Researchers’ Night 2023
URL:https://igi.ie/event/gsi-european-researchers-night-2023/
LOCATION:Ted Nevill Laboratory\, UCC\, Cork Enterprise Centre\, Distillery Fields\, North Mall\, UCC\, Cork\, Ireland
CATEGORIES:Event
END:VEVENT
END:VCALENDAR