BEGIN:VCALENDAR
VERSION:2.0
PRODID:-//The Institute of Geologists of Ireland - ECPv6.15.20//NONSGML v1.0//EN
CALSCALE:GREGORIAN
METHOD:PUBLISH
X-ORIGINAL-URL:https://igi.ie
X-WR-CALDESC:Events for The Institute of Geologists of Ireland
REFRESH-INTERVAL;VALUE=DURATION:PT1H
X-Robots-Tag:noindex
X-PUBLISHED-TTL:PT1H
BEGIN:VTIMEZONE
TZID:Europe/Dublin
BEGIN:STANDARD
TZOFFSETFROM:+0000
TZOFFSETTO:+0100
TZNAME:IST
DTSTART:20220327T010000
END:STANDARD
BEGIN:DAYLIGHT
TZOFFSETFROM:+0100
TZOFFSETTO:+0000
TZNAME:GMT
DTSTART:20221030T010000
END:DAYLIGHT
BEGIN:STANDARD
TZOFFSETFROM:+0000
TZOFFSETTO:+0100
TZNAME:IST
DTSTART:20230326T010000
END:STANDARD
BEGIN:DAYLIGHT
TZOFFSETFROM:+0100
TZOFFSETTO:+0000
TZNAME:GMT
DTSTART:20231029T010000
END:DAYLIGHT
BEGIN:STANDARD
TZOFFSETFROM:+0000
TZOFFSETTO:+0100
TZNAME:IST
DTSTART:20240331T010000
END:STANDARD
BEGIN:DAYLIGHT
TZOFFSETFROM:+0100
TZOFFSETTO:+0000
TZNAME:GMT
DTSTART:20241027T010000
END:DAYLIGHT
END:VTIMEZONE
BEGIN:VEVENT
DTSTART;TZID=Europe/Dublin:20231107T083000
DTEND;TZID=Europe/Dublin:20231107T190000
DTSTAMP:20260423T042748
CREATED:20230831T112612Z
LAST-MODIFIED:20231025T114839Z
UID:8950-1699345800-1699383600@igi.ie
SUMMARY:Geoscience 2023 - GSI Annual Conference: “Geoscience for a better future”
DESCRIPTION:Save The Date: \nGeoscience 2023\, the GSI annual conference. Themed “Geoscience for a better future” \n7th November 8:30am to 7:00pm in the Printworks Conference Centre\, Dublin Castle. \nYou can now register for this free conference using this Eventbrite link: \nGeoscience2023 – Geoscience for a better future Tickets\, Tue 7 Nov 2023 at 08:30 | Eventbrite
URL:https://igi.ie/event/geoscience-2023-gsi-annual-conference-geoscience-for-a-better-future/
LOCATION:Printworks Conference Centre\, Dublin Castle\, Dame St\, Dublin\, Ireland
CATEGORIES:Event
END:VEVENT
END:VCALENDAR