BEGIN:VCALENDAR
VERSION:2.0
PRODID:-//The Institute of Geologists of Ireland - ECPv6.15.20//NONSGML v1.0//EN
CALSCALE:GREGORIAN
METHOD:PUBLISH
X-WR-CALNAME:The Institute of Geologists of Ireland
X-ORIGINAL-URL:https://igi.ie
X-WR-CALDESC:Events for The Institute of Geologists of Ireland
REFRESH-INTERVAL;VALUE=DURATION:PT1H
X-Robots-Tag:noindex
X-PUBLISHED-TTL:PT1H
BEGIN:VTIMEZONE
TZID:Europe/Dublin
BEGIN:STANDARD
TZOFFSETFROM:+0000
TZOFFSETTO:+0100
TZNAME:IST
DTSTART:20220327T010000
END:STANDARD
BEGIN:DAYLIGHT
TZOFFSETFROM:+0100
TZOFFSETTO:+0000
TZNAME:GMT
DTSTART:20221030T010000
END:DAYLIGHT
BEGIN:STANDARD
TZOFFSETFROM:+0000
TZOFFSETTO:+0100
TZNAME:IST
DTSTART:20230326T010000
END:STANDARD
BEGIN:DAYLIGHT
TZOFFSETFROM:+0100
TZOFFSETTO:+0000
TZNAME:GMT
DTSTART:20231029T010000
END:DAYLIGHT
BEGIN:STANDARD
TZOFFSETFROM:+0000
TZOFFSETTO:+0100
TZNAME:IST
DTSTART:20240331T010000
END:STANDARD
BEGIN:DAYLIGHT
TZOFFSETFROM:+0100
TZOFFSETTO:+0000
TZNAME:GMT
DTSTART:20241027T010000
END:DAYLIGHT
END:VTIMEZONE
BEGIN:VEVENT
DTSTART;VALUE=DATE:20231111
DTEND;VALUE=DATE:20231112
DTSTAMP:20260423T042443
CREATED:20231025T115622Z
LAST-MODIFIED:20231025T121730Z
UID:9097-1699660800-1699747199@igi.ie
SUMMARY:Irish Mining and Quarrying Society (IMQS) Annual Black Tie Dinner Dance
DESCRIPTION:Saturday 11th November in Knightsbrook Hotel\, Trim\, Co. Meath. \nFurther information on costs and a link to buy tickets can be found here: \nIMQS Dinner Dance 11th Nov 2023 – IMQS
URL:https://igi.ie/event/irish-mining-and-quarrying-society-imqs-annual-black-tie-dinner-dance/
LOCATION:Knightsbrook Hotel\, Trim\, Co. Meath – and on ZOOM\, Trim\, Co Meath\, Trim\, C15 WYF4\, Ireland
CATEGORIES:Event
END:VEVENT
END:VCALENDAR