BEGIN:VCALENDAR
VERSION:2.0
PRODID:-//The Institute of Geologists of Ireland - ECPv6.15.20//NONSGML v1.0//EN
CALSCALE:GREGORIAN
METHOD:PUBLISH
X-ORIGINAL-URL:https://igi.ie
X-WR-CALDESC:Events for The Institute of Geologists of Ireland
REFRESH-INTERVAL;VALUE=DURATION:PT1H
X-Robots-Tag:noindex
X-PUBLISHED-TTL:PT1H
BEGIN:VTIMEZONE
TZID:Europe/Dublin
BEGIN:STANDARD
TZOFFSETFROM:+0000
TZOFFSETTO:+0100
TZNAME:IST
DTSTART:20220327T010000
END:STANDARD
BEGIN:DAYLIGHT
TZOFFSETFROM:+0100
TZOFFSETTO:+0000
TZNAME:GMT
DTSTART:20221030T010000
END:DAYLIGHT
BEGIN:STANDARD
TZOFFSETFROM:+0000
TZOFFSETTO:+0100
TZNAME:IST
DTSTART:20230326T010000
END:STANDARD
BEGIN:DAYLIGHT
TZOFFSETFROM:+0100
TZOFFSETTO:+0000
TZNAME:GMT
DTSTART:20231029T010000
END:DAYLIGHT
BEGIN:STANDARD
TZOFFSETFROM:+0000
TZOFFSETTO:+0100
TZNAME:IST
DTSTART:20240331T010000
END:STANDARD
BEGIN:DAYLIGHT
TZOFFSETFROM:+0100
TZOFFSETTO:+0000
TZNAME:GMT
DTSTART:20241027T010000
END:DAYLIGHT
END:VTIMEZONE
BEGIN:VEVENT
DTSTART;VALUE=DATE:20231121
DTEND;VALUE=DATE:20231129
DTSTAMP:20260423T042811
CREATED:20231025T123202Z
LAST-MODIFIED:20231025T123202Z
UID:9104-1700524800-1701215999@igi.ie
SUMMARY:"Ingenious Dublin” exhibition in the Little Museum of Dublin
DESCRIPTION:The exhibition includes fossils on loan from the Geological Museum in Trinity College Dublin\, including Ireland’s oldest fossil. \nAs part of the exhibition\, there are a number of talks. \nOne of the talks on the 21st November is entitled “Geology & Photography – the work of John Joly” and will be given by Professor Patrick Wyse Jackson. \nYou can find the Little Museum of Dublin at 15 St. Stephen’s Green\, Dublin 2 and link to more information and tickets here: \nIngenious Dublin Exhibition | The Little Museum of Dublin
URL:https://igi.ie/event/ingenious-dublin-exhibition-in-the-little-museum-of-dublin/
LOCATION:Little Museum of Dublin\, 15 St. Stephen’s Green\, Dublin\, Ireland
CATEGORIES:Event
END:VEVENT
BEGIN:VEVENT
DTSTART;TZID=Europe/Dublin:20231121T180000
DTEND;TZID=Europe/Dublin:20231121T180000
DTSTAMP:20260423T042811
CREATED:20231115T124340Z
LAST-MODIFIED:20231115T124340Z
UID:9172-1700589600-1700589600@igi.ie
SUMMARY:IAH AGM and TDM
DESCRIPTION:TDM at 18:00 and the AGM will take place afterwards starting at approx.19:00 hrs. \nYou must register in advance via this zoom link (you will then receive an email with the login details): \nhttps://tinyurl.com/IAHTDM \nAt the Technical Discussion Meeting (TDM)\, Matteo Viganotti (AECOM) will present a talk under the following title: \n“Injecting CO2 in a historical lime deposit for sequestration/remediation”. \nFurther details of the event (and future TDMs and events) are on the flyer which can be found at the following link: \nhttps://www.iah-ireland.org/TDMs/IAH%20TDM%20and%20AGM%20-%2021st%20November%202023_v2.pdf
URL:https://igi.ie/event/iah-agm-and-tdm/
LOCATION:ZOOM
CATEGORIES:Event
END:VEVENT
BEGIN:VEVENT
DTSTART;TZID=Europe/Dublin:20231121T190000
DTEND;TZID=Europe/Dublin:20231121T190000
DTSTAMP:20260423T042811
CREATED:20231115T125909Z
LAST-MODIFIED:20231115T130537Z
UID:9175-1700593200-1700593200@igi.ie
SUMMARY:IAEG Online Lecture Series 2023
DESCRIPTION:Next webinar in the series via Google Meet on Tuesday 21st November at 7pm. \nEntitled “The Critical Raw Materials Act” given by Mairéad Fitzsimons\, Senior Geologist at the Geoscience Policy Division\, Department of Environment\, Climate and Communications. \nRegistration is required to receive the invite link to this talk. Registration is open at this link: \nIAEG – The Critical Raw Materials Act
URL:https://igi.ie/event/iaeg-online-lecture-series-2023/
LOCATION:Webinar
CATEGORIES:Event
END:VEVENT
END:VCALENDAR