BEGIN:VCALENDAR
VERSION:2.0
PRODID:-//The Institute of Geologists of Ireland - ECPv6.15.20//NONSGML v1.0//EN
CALSCALE:GREGORIAN
METHOD:PUBLISH
X-WR-CALNAME:The Institute of Geologists of Ireland
X-ORIGINAL-URL:https://igi.ie
X-WR-CALDESC:Events for The Institute of Geologists of Ireland
REFRESH-INTERVAL;VALUE=DURATION:PT1H
X-Robots-Tag:noindex
X-PUBLISHED-TTL:PT1H
BEGIN:VTIMEZONE
TZID:Europe/Dublin
BEGIN:STANDARD
TZOFFSETFROM:+0000
TZOFFSETTO:+0100
TZNAME:IST
DTSTART:20220327T010000
END:STANDARD
BEGIN:DAYLIGHT
TZOFFSETFROM:+0100
TZOFFSETTO:+0000
TZNAME:GMT
DTSTART:20221030T010000
END:DAYLIGHT
BEGIN:STANDARD
TZOFFSETFROM:+0000
TZOFFSETTO:+0100
TZNAME:IST
DTSTART:20230326T010000
END:STANDARD
BEGIN:DAYLIGHT
TZOFFSETFROM:+0100
TZOFFSETTO:+0000
TZNAME:GMT
DTSTART:20231029T010000
END:DAYLIGHT
BEGIN:STANDARD
TZOFFSETFROM:+0000
TZOFFSETTO:+0100
TZNAME:IST
DTSTART:20240331T010000
END:STANDARD
BEGIN:DAYLIGHT
TZOFFSETFROM:+0100
TZOFFSETTO:+0000
TZNAME:GMT
DTSTART:20241027T010000
END:DAYLIGHT
END:VTIMEZONE
BEGIN:VEVENT
DTSTART;VALUE=DATE:20231121
DTEND;VALUE=DATE:20231129
DTSTAMP:20260423T031305
CREATED:20231025T123202Z
LAST-MODIFIED:20231025T123202Z
UID:9104-1700524800-1701215999@igi.ie
SUMMARY:"Ingenious Dublin” exhibition in the Little Museum of Dublin
DESCRIPTION:The exhibition includes fossils on loan from the Geological Museum in Trinity College Dublin\, including Ireland’s oldest fossil. \nAs part of the exhibition\, there are a number of talks. \nOne of the talks on the 21st November is entitled “Geology & Photography – the work of John Joly” and will be given by Professor Patrick Wyse Jackson. \nYou can find the Little Museum of Dublin at 15 St. Stephen’s Green\, Dublin 2 and link to more information and tickets here: \nIngenious Dublin Exhibition | The Little Museum of Dublin
URL:https://igi.ie/event/ingenious-dublin-exhibition-in-the-little-museum-of-dublin/
LOCATION:Little Museum of Dublin\, 15 St. Stephen’s Green\, Dublin\, Ireland
CATEGORIES:Event
END:VEVENT
BEGIN:VEVENT
DTSTART;TZID=Europe/Dublin:20231128T183000
DTEND;TZID=Europe/Dublin:20231128T183000
DTSTAMP:20260423T031305
CREATED:20231123T090557Z
LAST-MODIFIED:20231123T090557Z
UID:9195-1701196200-1701196200@igi.ie
SUMMARY:Belfast Geologists Lecture: "Mourne Gullion Stranford UNESCO Global Geopark”
DESCRIPTION:It will be given by Dr. Kirstin Lemon of GSNI. \nHybrid event\, held in person at Queen’s University Geography Department\, Elmwood Avenue\, Room GEO/OG/006 or online\, via Zoom\, on Tuesday 28th November starting at 6:30pm for 7pm if in person and from 6:45pm if on Zoom. \nIf attending via Zoom\, join using these details: \nMeeting ID: 852 9574 9629 \nPasscode: 843497 \nhttps://us06web.zoom.us/j/85295749629?pwd=wAUN9DaLCADFYMo8uBZBIlL1hChdyt.1 \n  \n 
URL:https://igi.ie/event/belfast-geologists-lecture-mourne-gullion-stranford-unesco-global-geopark/
LOCATION:Queens University Belfast\, University Rd\, Belfast BT7 1NN\,\, Belfast\, BT7 1NN\, United Kingdom
CATEGORIES:Event
END:VEVENT
END:VCALENDAR