BEGIN:VCALENDAR
VERSION:2.0
PRODID:-//The Institute of Geologists of Ireland - ECPv6.15.20//NONSGML v1.0//EN
CALSCALE:GREGORIAN
METHOD:PUBLISH
X-WR-CALNAME:The Institute of Geologists of Ireland
X-ORIGINAL-URL:https://igi.ie
X-WR-CALDESC:Events for The Institute of Geologists of Ireland
REFRESH-INTERVAL;VALUE=DURATION:PT1H
X-Robots-Tag:noindex
X-PUBLISHED-TTL:PT1H
BEGIN:VTIMEZONE
TZID:Europe/Dublin
BEGIN:STANDARD
TZOFFSETFROM:+0000
TZOFFSETTO:+0100
TZNAME:IST
DTSTART:20220327T010000
END:STANDARD
BEGIN:DAYLIGHT
TZOFFSETFROM:+0100
TZOFFSETTO:+0000
TZNAME:GMT
DTSTART:20221030T010000
END:DAYLIGHT
BEGIN:STANDARD
TZOFFSETFROM:+0000
TZOFFSETTO:+0100
TZNAME:IST
DTSTART:20230326T010000
END:STANDARD
BEGIN:DAYLIGHT
TZOFFSETFROM:+0100
TZOFFSETTO:+0000
TZNAME:GMT
DTSTART:20231029T010000
END:DAYLIGHT
BEGIN:STANDARD
TZOFFSETFROM:+0000
TZOFFSETTO:+0100
TZNAME:IST
DTSTART:20240331T010000
END:STANDARD
BEGIN:DAYLIGHT
TZOFFSETFROM:+0100
TZOFFSETTO:+0000
TZNAME:GMT
DTSTART:20241027T010000
END:DAYLIGHT
END:VTIMEZONE
BEGIN:VEVENT
DTSTART;TZID=Europe/Dublin:20231214T160000
DTEND;TZID=Europe/Dublin:20231214T170000
DTSTAMP:20260423T042528
CREATED:20231206T130727Z
LAST-MODIFIED:20231206T132536Z
UID:9246-1702569600-1702573200@igi.ie
SUMMARY:GSNI webinar: “Imaging Subsurface Geology using Gravity measurements from the air”
DESCRIPTION:Geological Survey of Northern Ireland webinar given as part of the Northern Ireland Geothermal Webinar Series. \nThe webinar is entitled “Imaging Subsurface Geology using Gravity measurements from the air”. \nIt will be given by Dr. Gary Barnes\, chief scientist at Metatek. \nThe webinar will introduce gravity gradiometry technology and show how airborne surveys can help solve a variety of geological challenges. \nMore information on the talk and the registration details can be found at this Eventbrite link: \nImaging Subsurface Geology Using Gravity Measurements From the Air Tickets\, Thu 14 Dec 2023 at 16:00 | Eventbrite
URL:https://igi.ie/event/geological-survey-of-northern-ireland-gsni-webinar-imaging-subsurface-geology-using-gravity-measurements-from-the-air/
LOCATION:Webinar
CATEGORIES:Event,Lectures
END:VEVENT
END:VCALENDAR