BEGIN:VCALENDAR
VERSION:2.0
PRODID:-//The Institute of Geologists of Ireland - ECPv6.15.20//NONSGML v1.0//EN
CALSCALE:GREGORIAN
METHOD:PUBLISH
X-ORIGINAL-URL:https://igi.ie
X-WR-CALDESC:Events for The Institute of Geologists of Ireland
REFRESH-INTERVAL;VALUE=DURATION:PT1H
X-Robots-Tag:noindex
X-PUBLISHED-TTL:PT1H
BEGIN:VTIMEZONE
TZID:Europe/Dublin
BEGIN:STANDARD
TZOFFSETFROM:+0000
TZOFFSETTO:+0100
TZNAME:IST
DTSTART:20230326T010000
END:STANDARD
BEGIN:DAYLIGHT
TZOFFSETFROM:+0100
TZOFFSETTO:+0000
TZNAME:GMT
DTSTART:20231029T010000
END:DAYLIGHT
BEGIN:STANDARD
TZOFFSETFROM:+0000
TZOFFSETTO:+0100
TZNAME:IST
DTSTART:20240331T010000
END:STANDARD
BEGIN:DAYLIGHT
TZOFFSETFROM:+0100
TZOFFSETTO:+0000
TZNAME:GMT
DTSTART:20241027T010000
END:DAYLIGHT
BEGIN:STANDARD
TZOFFSETFROM:+0000
TZOFFSETTO:+0100
TZNAME:IST
DTSTART:20250330T010000
END:STANDARD
BEGIN:DAYLIGHT
TZOFFSETFROM:+0100
TZOFFSETTO:+0000
TZNAME:GMT
DTSTART:20251026T010000
END:DAYLIGHT
END:VTIMEZONE
BEGIN:VEVENT
DTSTART;TZID=Europe/Dublin:20240124T190000
DTEND;TZID=Europe/Dublin:20240124T200000
DTSTAMP:20260423T042750
CREATED:20240117T135719Z
LAST-MODIFIED:20240117T140335Z
UID:9317-1706122800-1706126400@igi.ie
SUMMARY:Joint IGA/GGA/CGA Talk
DESCRIPTION:The annual joint talk between the Irish Geological Association (IGA)\, the Galway Geologists Association (GGA) and the CGA (Cork Geologists Association) takes place next Wednesday\, 24th January between 19:00 and 20:00. \nIt will be held in-person in M4 in TCD Museum Building and will also be streamed live via Zoom. \nThe talk is entitled “From Seafloor Methane to Continental Flooding: Understanding the Palaeocene-Eocene Thermal Maximum and Global Climate Change” and will be given by Professor Gerald ‘Jerry’ Dickens of TCD.  \nRegister by emailing IGA on info@geology.ie. More information on flyer here
URL:https://igi.ie/event/joint-iga-gga-cga-talk/
LOCATION:Trinity College\, Dublin\, Dublin\, D02 KV91\, Ireland
CATEGORIES:Event
END:VEVENT
END:VCALENDAR