BEGIN:VCALENDAR
VERSION:2.0
PRODID:-//The Institute of Geologists of Ireland - ECPv6.15.20//NONSGML v1.0//EN
CALSCALE:GREGORIAN
METHOD:PUBLISH
X-ORIGINAL-URL:https://igi.ie
X-WR-CALDESC:Events for The Institute of Geologists of Ireland
REFRESH-INTERVAL;VALUE=DURATION:PT1H
X-Robots-Tag:noindex
X-PUBLISHED-TTL:PT1H
BEGIN:VTIMEZONE
TZID:Europe/Dublin
BEGIN:STANDARD
TZOFFSETFROM:+0000
TZOFFSETTO:+0100
TZNAME:IST
DTSTART:20230326T010000
END:STANDARD
BEGIN:DAYLIGHT
TZOFFSETFROM:+0100
TZOFFSETTO:+0000
TZNAME:GMT
DTSTART:20231029T010000
END:DAYLIGHT
BEGIN:STANDARD
TZOFFSETFROM:+0000
TZOFFSETTO:+0100
TZNAME:IST
DTSTART:20240331T010000
END:STANDARD
BEGIN:DAYLIGHT
TZOFFSETFROM:+0100
TZOFFSETTO:+0000
TZNAME:GMT
DTSTART:20241027T010000
END:DAYLIGHT
BEGIN:STANDARD
TZOFFSETFROM:+0000
TZOFFSETTO:+0100
TZNAME:IST
DTSTART:20250330T010000
END:STANDARD
BEGIN:DAYLIGHT
TZOFFSETFROM:+0100
TZOFFSETTO:+0000
TZNAME:GMT
DTSTART:20251026T010000
END:DAYLIGHT
END:VTIMEZONE
BEGIN:VEVENT
DTSTART;TZID=Europe/Dublin:20240125T160000
DTEND;TZID=Europe/Dublin:20240125T170000
DTSTAMP:20260423T042749
CREATED:20240124T115736Z
LAST-MODIFIED:20240124T115736Z
UID:9347-1706198400-1706202000@igi.ie
SUMMARY:Northern Ireland Geothermal Webinar Series
DESCRIPTION:“Assessing the Goldilocks Zone for Open Loop Ground Source Heat pump systems (a fairytale in numerical groundwater modelling)” by Huw Williams of Agua Enodo. \nThursday 25th January 2024 between 16:00 and 17:00. \nFor more information and to register use this Eventbrite link: \nAssessing the Goldilocks Zone for Open Loop Ground Source Heat Pump Systems Tickets\, Thu 25 Jan 2024 at 16:00 | Eventbrite
URL:https://igi.ie/event/northern-ireland-geothermal-webinar-series/
LOCATION:Webinar
CATEGORIES:Event
END:VEVENT
END:VCALENDAR