BEGIN:VCALENDAR
VERSION:2.0
PRODID:-//The Institute of Geologists of Ireland - ECPv6.15.20//NONSGML v1.0//EN
CALSCALE:GREGORIAN
METHOD:PUBLISH
X-WR-CALNAME:The Institute of Geologists of Ireland
X-ORIGINAL-URL:https://igi.ie
X-WR-CALDESC:Events for The Institute of Geologists of Ireland
REFRESH-INTERVAL;VALUE=DURATION:PT1H
X-Robots-Tag:noindex
X-PUBLISHED-TTL:PT1H
BEGIN:VTIMEZONE
TZID:Europe/Dublin
BEGIN:STANDARD
TZOFFSETFROM:+0000
TZOFFSETTO:+0100
TZNAME:IST
DTSTART:20230326T010000
END:STANDARD
BEGIN:DAYLIGHT
TZOFFSETFROM:+0100
TZOFFSETTO:+0000
TZNAME:GMT
DTSTART:20231029T010000
END:DAYLIGHT
BEGIN:STANDARD
TZOFFSETFROM:+0000
TZOFFSETTO:+0100
TZNAME:IST
DTSTART:20240331T010000
END:STANDARD
BEGIN:DAYLIGHT
TZOFFSETFROM:+0100
TZOFFSETTO:+0000
TZNAME:GMT
DTSTART:20241027T010000
END:DAYLIGHT
BEGIN:STANDARD
TZOFFSETFROM:+0000
TZOFFSETTO:+0100
TZNAME:IST
DTSTART:20250330T010000
END:STANDARD
BEGIN:DAYLIGHT
TZOFFSETFROM:+0100
TZOFFSETTO:+0000
TZNAME:GMT
DTSTART:20251026T010000
END:DAYLIGHT
END:VTIMEZONE
BEGIN:VEVENT
DTSTART;TZID=Europe/Dublin:20240126T183000
DTEND;TZID=Europe/Dublin:20240126T183000
DTSTAMP:20260423T031307
CREATED:20240117T144011Z
LAST-MODIFIED:20240117T144914Z
UID:9324-1706293800-1706293800@igi.ie
SUMMARY:DIAS talk: “What’s wrong with me?”
DESCRIPTION:Dublin Institute for Advanced Studies talk. \nTo be given by:  Dr. Pauline Gagnon\, particle physicist and science communicator\, formerly of CERN\, to DIAS. \nThe talk will tackle EDI issues in physics. \nMore information on the talk content and how to register can be found at this Eventbrite link: \nWhat’s wrong with me? Tickets\, Fri 26 Jan 2024 at 18:30 | Eventbrite. Booking is open now.
URL:https://igi.ie/event/dias-talk-whats-wrong-with-me/
LOCATION:DIAS Headquarters\, 10 Burlington Road\, Dublin 4\, 10 Burlington Road\, Dublin 4\, Dublin\, D04 C932
CATEGORIES:Event,Lectures
END:VEVENT
END:VCALENDAR