BEGIN:VCALENDAR
VERSION:2.0
PRODID:-//The Institute of Geologists of Ireland - ECPv6.15.20//NONSGML v1.0//EN
CALSCALE:GREGORIAN
METHOD:PUBLISH
X-WR-CALNAME:The Institute of Geologists of Ireland
X-ORIGINAL-URL:https://igi.ie
X-WR-CALDESC:Events for The Institute of Geologists of Ireland
REFRESH-INTERVAL;VALUE=DURATION:PT1H
X-Robots-Tag:noindex
X-PUBLISHED-TTL:PT1H
BEGIN:VTIMEZONE
TZID:Europe/Dublin
BEGIN:STANDARD
TZOFFSETFROM:+0000
TZOFFSETTO:+0100
TZNAME:IST
DTSTART:20230326T010000
END:STANDARD
BEGIN:DAYLIGHT
TZOFFSETFROM:+0100
TZOFFSETTO:+0000
TZNAME:GMT
DTSTART:20231029T010000
END:DAYLIGHT
BEGIN:STANDARD
TZOFFSETFROM:+0000
TZOFFSETTO:+0100
TZNAME:IST
DTSTART:20240331T010000
END:STANDARD
BEGIN:DAYLIGHT
TZOFFSETFROM:+0100
TZOFFSETTO:+0000
TZNAME:GMT
DTSTART:20241027T010000
END:DAYLIGHT
BEGIN:STANDARD
TZOFFSETFROM:+0000
TZOFFSETTO:+0100
TZNAME:IST
DTSTART:20250330T010000
END:STANDARD
BEGIN:DAYLIGHT
TZOFFSETFROM:+0100
TZOFFSETTO:+0000
TZNAME:GMT
DTSTART:20251026T010000
END:DAYLIGHT
END:VTIMEZONE
BEGIN:VEVENT
DTSTART;TZID=Europe/Dublin:20240129T190000
DTEND;TZID=Europe/Dublin:20240129T190000
DTSTAMP:20260423T005105
CREATED:20240117T144554Z
LAST-MODIFIED:20240117T144705Z
UID:9328-1706554800-1706554800@igi.ie
SUMMARY:DIAS talk: “The tragic destiny of Mileva Marić Einstein”
DESCRIPTION:Dublin Institute for Advanced Studies talk. \nTo be given by Dr. Pauline Gagnon\, \nMore information can be found at this separate Eventbrite link: \nThe tragic destiny of Mileva Marić Einstein Tickets\, Mon 29 Jan 2024 at 19:00 | Eventbrite. \nBooking is open now.
URL:https://igi.ie/event/dias-talk-the-tragic-destiny-of-mileva-maric-einstein/
LOCATION:DIAS Headquarters\, 10 Burlington Road\, Dublin 4\, 10 Burlington Road\, Dublin 4\, Dublin\, D04 C932
CATEGORIES:Event,Lectures
END:VEVENT
END:VCALENDAR