BEGIN:VCALENDAR
VERSION:2.0
PRODID:-//The Institute of Geologists of Ireland - ECPv6.15.20//NONSGML v1.0//EN
CALSCALE:GREGORIAN
METHOD:PUBLISH
X-ORIGINAL-URL:https://igi.ie
X-WR-CALDESC:Events for The Institute of Geologists of Ireland
REFRESH-INTERVAL;VALUE=DURATION:PT1H
X-Robots-Tag:noindex
X-PUBLISHED-TTL:PT1H
BEGIN:VTIMEZONE
TZID:Europe/Dublin
BEGIN:STANDARD
TZOFFSETFROM:+0000
TZOFFSETTO:+0100
TZNAME:IST
DTSTART:20230326T010000
END:STANDARD
BEGIN:DAYLIGHT
TZOFFSETFROM:+0100
TZOFFSETTO:+0000
TZNAME:GMT
DTSTART:20231029T010000
END:DAYLIGHT
BEGIN:STANDARD
TZOFFSETFROM:+0000
TZOFFSETTO:+0100
TZNAME:IST
DTSTART:20240331T010000
END:STANDARD
BEGIN:DAYLIGHT
TZOFFSETFROM:+0100
TZOFFSETTO:+0000
TZNAME:GMT
DTSTART:20241027T010000
END:DAYLIGHT
BEGIN:STANDARD
TZOFFSETFROM:+0000
TZOFFSETTO:+0100
TZNAME:IST
DTSTART:20250330T010000
END:STANDARD
BEGIN:DAYLIGHT
TZOFFSETFROM:+0100
TZOFFSETTO:+0000
TZNAME:GMT
DTSTART:20251026T010000
END:DAYLIGHT
END:VTIMEZONE
BEGIN:VEVENT
DTSTART;TZID=Europe/Dublin:20240131T193000
DTEND;TZID=Europe/Dublin:20240131T193000
DTSTAMP:20260422T223625
CREATED:20240124T120353Z
LAST-MODIFIED:20240124T120353Z
UID:9350-1706729400-1706729400@igi.ie
SUMMARY:Cork Geological Association lecture - “Critical Raw Materials Now and for the Future: How clean is green?”
DESCRIPTION:By Prof. Judith Kinnaird\, University of Witwatersrand\, Johannesburg. \non Wednesday January 31st at 7.30pm \nJudith has worked in mineral exploration over her career\, in Scotland\, Ireland and Africa. Before going to South Africa\, Judith lectured for the Open University\, UK\, and at University College Cork. \nThis lecture will be via Zoom. To register please email b.higgs@ucc.ie
URL:https://igi.ie/event/cork-geological-association-lecture-critical-raw-materials-now-and-for-the-future-how-clean-is-green/
LOCATION:ZOOM
CATEGORIES:Event
END:VEVENT
END:VCALENDAR