BEGIN:VCALENDAR
VERSION:2.0
PRODID:-//The Institute of Geologists of Ireland - ECPv6.15.20//NONSGML v1.0//EN
CALSCALE:GREGORIAN
METHOD:PUBLISH
X-WR-CALNAME:The Institute of Geologists of Ireland
X-ORIGINAL-URL:https://igi.ie
X-WR-CALDESC:Events for The Institute of Geologists of Ireland
REFRESH-INTERVAL;VALUE=DURATION:PT1H
X-Robots-Tag:noindex
X-PUBLISHED-TTL:PT1H
BEGIN:VTIMEZONE
TZID:Europe/Dublin
BEGIN:STANDARD
TZOFFSETFROM:+0000
TZOFFSETTO:+0100
TZNAME:IST
DTSTART:20230326T010000
END:STANDARD
BEGIN:DAYLIGHT
TZOFFSETFROM:+0100
TZOFFSETTO:+0000
TZNAME:GMT
DTSTART:20231029T010000
END:DAYLIGHT
BEGIN:STANDARD
TZOFFSETFROM:+0000
TZOFFSETTO:+0100
TZNAME:IST
DTSTART:20240331T010000
END:STANDARD
BEGIN:DAYLIGHT
TZOFFSETFROM:+0100
TZOFFSETTO:+0000
TZNAME:GMT
DTSTART:20241027T010000
END:DAYLIGHT
BEGIN:STANDARD
TZOFFSETFROM:+0000
TZOFFSETTO:+0100
TZNAME:IST
DTSTART:20250330T010000
END:STANDARD
BEGIN:DAYLIGHT
TZOFFSETFROM:+0100
TZOFFSETTO:+0000
TZNAME:GMT
DTSTART:20251026T010000
END:DAYLIGHT
END:VTIMEZONE
BEGIN:VEVENT
DTSTART;TZID=Europe/Dublin:20240222T160000
DTEND;TZID=Europe/Dublin:20240222T170000
DTSTAMP:20260422T223548
CREATED:20240207T094501Z
LAST-MODIFIED:20240207T094501Z
UID:9375-1708617600-1708621200@igi.ie
SUMMARY:GSNI Northern Ireland Geothermal Webinar
DESCRIPTION:The 2nd webinar of the 2024 Northern Ireland Geothermal Webinar Series will take place on the 22nd February 2024 between 16:00 and 17:00. \nIt is entitled “GeoMapTM Beta – A deep dive into the research behind the subsurface data” and will be given by Dr. Helen Doran\, Lead Geologist with Project Inner Space. \nMore details and an Eventbrite link can be found here:  GeoMap™ Beta – A Deep Dive into the Research Behind the Subsurface Data Tickets\, Thu 22 Feb 2024 at 16:00 | Eventbrite.
URL:https://igi.ie/event/gsni-northern-ireland-geothermal-webinar/
LOCATION:Webinar
CATEGORIES:Event
END:VEVENT
END:VCALENDAR