BEGIN:VCALENDAR
VERSION:2.0
PRODID:-//The Institute of Geologists of Ireland - ECPv6.15.20//NONSGML v1.0//EN
CALSCALE:GREGORIAN
METHOD:PUBLISH
X-WR-CALNAME:The Institute of Geologists of Ireland
X-ORIGINAL-URL:https://igi.ie
X-WR-CALDESC:Events for The Institute of Geologists of Ireland
REFRESH-INTERVAL;VALUE=DURATION:PT1H
X-Robots-Tag:noindex
X-PUBLISHED-TTL:PT1H
BEGIN:VTIMEZONE
TZID:Europe/Dublin
BEGIN:STANDARD
TZOFFSETFROM:+0000
TZOFFSETTO:+0100
TZNAME:IST
DTSTART:20230326T010000
END:STANDARD
BEGIN:DAYLIGHT
TZOFFSETFROM:+0100
TZOFFSETTO:+0000
TZNAME:GMT
DTSTART:20231029T010000
END:DAYLIGHT
BEGIN:STANDARD
TZOFFSETFROM:+0000
TZOFFSETTO:+0100
TZNAME:IST
DTSTART:20240331T010000
END:STANDARD
BEGIN:DAYLIGHT
TZOFFSETFROM:+0100
TZOFFSETTO:+0000
TZNAME:GMT
DTSTART:20241027T010000
END:DAYLIGHT
BEGIN:STANDARD
TZOFFSETFROM:+0000
TZOFFSETTO:+0100
TZNAME:IST
DTSTART:20250330T010000
END:STANDARD
BEGIN:DAYLIGHT
TZOFFSETFROM:+0100
TZOFFSETTO:+0000
TZNAME:GMT
DTSTART:20251026T010000
END:DAYLIGHT
END:VTIMEZONE
BEGIN:VEVENT
DTSTART;TZID=Europe/Dublin:20240228T123000
DTEND;TZID=Europe/Dublin:20240228T140000
DTSTAMP:20260422T212020
CREATED:20240110T172915Z
LAST-MODIFIED:20240110T172915Z
UID:9300-1709123400-1709128800@igi.ie
SUMMARY:Contaminated Land Training Webinar 6
DESCRIPTION: “Beware of Aliens” – Invasive Species workshop – William Earle  \n28th February 2024 12:30 – 14:00 \nEmail info@igi.ie to register
URL:https://igi.ie/event/contaminated-land-training-webinar-6/
CATEGORIES:Event,Lectures
END:VEVENT
END:VCALENDAR