BEGIN:VCALENDAR
VERSION:2.0
PRODID:-//The Institute of Geologists of Ireland - ECPv6.15.20//NONSGML v1.0//EN
CALSCALE:GREGORIAN
METHOD:PUBLISH
X-ORIGINAL-URL:https://igi.ie
X-WR-CALDESC:Events for The Institute of Geologists of Ireland
REFRESH-INTERVAL;VALUE=DURATION:PT1H
X-Robots-Tag:noindex
X-PUBLISHED-TTL:PT1H
BEGIN:VTIMEZONE
TZID:Europe/Dublin
BEGIN:STANDARD
TZOFFSETFROM:+0000
TZOFFSETTO:+0100
TZNAME:IST
DTSTART:20230326T010000
END:STANDARD
BEGIN:DAYLIGHT
TZOFFSETFROM:+0100
TZOFFSETTO:+0000
TZNAME:GMT
DTSTART:20231029T010000
END:DAYLIGHT
BEGIN:STANDARD
TZOFFSETFROM:+0000
TZOFFSETTO:+0100
TZNAME:IST
DTSTART:20240331T010000
END:STANDARD
BEGIN:DAYLIGHT
TZOFFSETFROM:+0100
TZOFFSETTO:+0000
TZNAME:GMT
DTSTART:20241027T010000
END:DAYLIGHT
BEGIN:STANDARD
TZOFFSETFROM:+0000
TZOFFSETTO:+0100
TZNAME:IST
DTSTART:20250330T010000
END:STANDARD
BEGIN:DAYLIGHT
TZOFFSETFROM:+0100
TZOFFSETTO:+0000
TZNAME:GMT
DTSTART:20251026T010000
END:DAYLIGHT
END:VTIMEZONE
BEGIN:VEVENT
DTSTART;TZID=Europe/Dublin:20240321T160000
DTEND;TZID=Europe/Dublin:20240321T170000
DTSTAMP:20260422T212607
CREATED:20240306T121217Z
LAST-MODIFIED:20240306T121217Z
UID:9486-1711036800-1711040400@igi.ie
SUMMARY:GSNI Northern Ireland Geothermal Webinar: Making Geothermal Heat Projects Happen
DESCRIPTION:GSNI Northern Ireland Geothermal Webinar the 3rd webinar of the 2024 Northern Ireland Geothermal Webinar Series will take place on the 21st March 2024 between 16:00 and 17:00. \nIt is entitled “Making Geothermal Heat Projects Happen” and will be given by David Townsend\, Founder and CEO of TownRock Energy. \nMore details and an Eventbrite link can be found here Making Geothermal Heat Projects Happen Tickets\, Thu 21 Mar 2024 at 16:00 | Eventbrite
URL:https://igi.ie/event/gsni-northern-ireland-geothermal-webinar-making-geothermal-heat-projects-happen/
LOCATION:Webinar
CATEGORIES:Event
END:VEVENT
END:VCALENDAR