BEGIN:VCALENDAR
VERSION:2.0
PRODID:-//The Institute of Geologists of Ireland - ECPv6.15.20//NONSGML v1.0//EN
CALSCALE:GREGORIAN
METHOD:PUBLISH
X-WR-CALNAME:The Institute of Geologists of Ireland
X-ORIGINAL-URL:https://igi.ie
X-WR-CALDESC:Events for The Institute of Geologists of Ireland
REFRESH-INTERVAL;VALUE=DURATION:PT1H
X-Robots-Tag:noindex
X-PUBLISHED-TTL:PT1H
BEGIN:VTIMEZONE
TZID:Europe/Dublin
BEGIN:STANDARD
TZOFFSETFROM:+0000
TZOFFSETTO:+0100
TZNAME:IST
DTSTART:20230326T010000
END:STANDARD
BEGIN:DAYLIGHT
TZOFFSETFROM:+0100
TZOFFSETTO:+0000
TZNAME:GMT
DTSTART:20231029T010000
END:DAYLIGHT
BEGIN:STANDARD
TZOFFSETFROM:+0000
TZOFFSETTO:+0100
TZNAME:IST
DTSTART:20240331T010000
END:STANDARD
BEGIN:DAYLIGHT
TZOFFSETFROM:+0100
TZOFFSETTO:+0000
TZNAME:GMT
DTSTART:20241027T010000
END:DAYLIGHT
BEGIN:STANDARD
TZOFFSETFROM:+0000
TZOFFSETTO:+0100
TZNAME:IST
DTSTART:20250330T010000
END:STANDARD
BEGIN:DAYLIGHT
TZOFFSETFROM:+0100
TZOFFSETTO:+0000
TZNAME:GMT
DTSTART:20251026T010000
END:DAYLIGHT
END:VTIMEZONE
BEGIN:VEVENT
DTSTART;VALUE=DATE:20240504
DTEND;VALUE=DATE:20240506
DTSTAMP:20260422T190606
CREATED:20240423T184734Z
LAST-MODIFIED:20240423T184734Z
UID:9685-1714780800-1714953599@igi.ie
SUMMARY:Ireland’s Fossil Heritage and iCRAG - Feile na Bealtaine
DESCRIPTION:Ireland’s Fossil Heritage and iCRAG – will be attending Feile na Bealtaine in Daingean Uí Chuis\, Co. Kerry on the 4th and 5th May 2024. \nThere is a Family Day on the 4th May with rocks\, fossils and games. Followed by a walk on Clogher Strand on the 5th May\, where you can learn to read the rocks and fossils. \nMore information can be found on the Feile na Bealtaine website Féile na Bealtaine: community music and arts festival in Dingle\, Kerry (feilenabealtaine.ie)
URL:https://igi.ie/event/irelands-fossil-heritage-and-icrag-feile-na-bealtaine/
LOCATION:Daingean Uí Chuis\, Co Kerry\, Co Kerry\, Ireland
CATEGORIES:Event
END:VEVENT
END:VCALENDAR