BEGIN:VCALENDAR
VERSION:2.0
PRODID:-//The Institute of Geologists of Ireland - ECPv6.15.20//NONSGML v1.0//EN
CALSCALE:GREGORIAN
METHOD:PUBLISH
X-ORIGINAL-URL:https://igi.ie
X-WR-CALDESC:Events for The Institute of Geologists of Ireland
REFRESH-INTERVAL;VALUE=DURATION:PT1H
X-Robots-Tag:noindex
X-PUBLISHED-TTL:PT1H
BEGIN:VTIMEZONE
TZID:Europe/Dublin
BEGIN:STANDARD
TZOFFSETFROM:+0000
TZOFFSETTO:+0100
TZNAME:IST
DTSTART:20230326T010000
END:STANDARD
BEGIN:DAYLIGHT
TZOFFSETFROM:+0100
TZOFFSETTO:+0000
TZNAME:GMT
DTSTART:20231029T010000
END:DAYLIGHT
BEGIN:STANDARD
TZOFFSETFROM:+0000
TZOFFSETTO:+0100
TZNAME:IST
DTSTART:20240331T010000
END:STANDARD
BEGIN:DAYLIGHT
TZOFFSETFROM:+0100
TZOFFSETTO:+0000
TZNAME:GMT
DTSTART:20241027T010000
END:DAYLIGHT
BEGIN:STANDARD
TZOFFSETFROM:+0000
TZOFFSETTO:+0100
TZNAME:IST
DTSTART:20250330T010000
END:STANDARD
BEGIN:DAYLIGHT
TZOFFSETFROM:+0100
TZOFFSETTO:+0000
TZNAME:GMT
DTSTART:20251026T010000
END:DAYLIGHT
END:VTIMEZONE
BEGIN:VEVENT
DTSTART;TZID=Europe/Dublin:20240611T160000
DTEND;TZID=Europe/Dublin:20240611T170000
DTSTAMP:20260422T175009
CREATED:20240529T103824Z
LAST-MODIFIED:20240529T103824Z
UID:9928-1718121600-1718125200@igi.ie
SUMMARY:Environment Analyst Webinar on Critical Mineral Recovery
DESCRIPTION:Learn about the benefits of Critical Mineral Recovery from waste materials in a free webinar run by the Sustainable Delivery Group of Environment Analyst. \nIt will be held on Tuesday 11th June at 4pm-5pm. \nSpeakers will discuss the opportunities of critical mineral recovery. \nMore information and a registration link can be found here: Critical Mineral Recovery from Waste Materials | Environment Analyst (livestorm.co)
URL:https://igi.ie/event/environment-analyst-webinar-on-critical-mineral-recovery/
LOCATION:Webinar
CATEGORIES:Event
END:VEVENT
END:VCALENDAR