BEGIN:VCALENDAR
VERSION:2.0
PRODID:-//The Institute of Geologists of Ireland - ECPv6.15.20//NONSGML v1.0//EN
CALSCALE:GREGORIAN
METHOD:PUBLISH
X-WR-CALNAME:The Institute of Geologists of Ireland
X-ORIGINAL-URL:https://igi.ie
X-WR-CALDESC:Events for The Institute of Geologists of Ireland
REFRESH-INTERVAL;VALUE=DURATION:PT1H
X-Robots-Tag:noindex
X-PUBLISHED-TTL:PT1H
BEGIN:VTIMEZONE
TZID:Europe/Dublin
BEGIN:STANDARD
TZOFFSETFROM:+0000
TZOFFSETTO:+0100
TZNAME:IST
DTSTART:20230326T010000
END:STANDARD
BEGIN:DAYLIGHT
TZOFFSETFROM:+0100
TZOFFSETTO:+0000
TZNAME:GMT
DTSTART:20231029T010000
END:DAYLIGHT
BEGIN:STANDARD
TZOFFSETFROM:+0000
TZOFFSETTO:+0100
TZNAME:IST
DTSTART:20240331T010000
END:STANDARD
BEGIN:DAYLIGHT
TZOFFSETFROM:+0100
TZOFFSETTO:+0000
TZNAME:GMT
DTSTART:20241027T010000
END:DAYLIGHT
BEGIN:STANDARD
TZOFFSETFROM:+0000
TZOFFSETTO:+0100
TZNAME:IST
DTSTART:20250330T010000
END:STANDARD
BEGIN:DAYLIGHT
TZOFFSETFROM:+0100
TZOFFSETTO:+0000
TZNAME:GMT
DTSTART:20251026T010000
END:DAYLIGHT
END:VTIMEZONE
BEGIN:VEVENT
DTSTART;TZID=Europe/Dublin:20240613T100000
DTEND;TZID=Europe/Dublin:20240613T110000
DTSTAMP:20260422T201042
CREATED:20240522T133825Z
LAST-MODIFIED:20240522T134438Z
UID:9854-1718272800-1718276400@igi.ie
SUMMARY:EFG Webinar / CEEGS project “Challenges and Risks of CO2 Storage”
DESCRIPTION:Thursday 13th June 2024 10am-11am (11:00-12:00 CEST) \nCEEGS is a three-year Horizon Europe-funded project aimed at developing cross-sectoral technology to facilitate the energy transition. This technology integrates a renewable energy storage system based on the transcritical CO2 cycle\, CO2 storage in geological formations\, and geothermal heat extraction. \nThe primary goal of the project is to scientifically validate the techno-economic feasibility of this technology\, increasing the Technology Readiness Level (TRL) from 2 to 4 by addressing existing gaps at the interface between the surface transcritical cycle and subsurface CO2 storage. \nJoin EFG for an insightful discussion on the challenges and risks associated with CO2 storage\, featuring expert speakers from leading research institutions. \nThis webinar is essential for professionals and researchers involved in CO2 storage and the energy transition. \nRegistration is free. \nMore information is available at this link CEEGS Webinar: Challenges and Risks of CO2 Storage | CEEGS Project where there is a link to register.
URL:https://igi.ie/event/efg-webinar-ceegs-project-challenges-and-risks-of-co2-storage/
LOCATION:Webinar
CATEGORIES:Event
END:VEVENT
END:VCALENDAR