BEGIN:VCALENDAR
VERSION:2.0
PRODID:-//The Institute of Geologists of Ireland - ECPv6.15.20//NONSGML v1.0//EN
CALSCALE:GREGORIAN
METHOD:PUBLISH
X-ORIGINAL-URL:https://igi.ie
X-WR-CALDESC:Events for The Institute of Geologists of Ireland
REFRESH-INTERVAL;VALUE=DURATION:PT1H
X-Robots-Tag:noindex
X-PUBLISHED-TTL:PT1H
BEGIN:VTIMEZONE
TZID:Europe/Dublin
BEGIN:STANDARD
TZOFFSETFROM:+0000
TZOFFSETTO:+0100
TZNAME:IST
DTSTART:20230326T010000
END:STANDARD
BEGIN:DAYLIGHT
TZOFFSETFROM:+0100
TZOFFSETTO:+0000
TZNAME:GMT
DTSTART:20231029T010000
END:DAYLIGHT
BEGIN:STANDARD
TZOFFSETFROM:+0000
TZOFFSETTO:+0100
TZNAME:IST
DTSTART:20240331T010000
END:STANDARD
BEGIN:DAYLIGHT
TZOFFSETFROM:+0100
TZOFFSETTO:+0000
TZNAME:GMT
DTSTART:20241027T010000
END:DAYLIGHT
BEGIN:STANDARD
TZOFFSETFROM:+0000
TZOFFSETTO:+0100
TZNAME:IST
DTSTART:20250330T010000
END:STANDARD
BEGIN:DAYLIGHT
TZOFFSETFROM:+0100
TZOFFSETTO:+0000
TZNAME:GMT
DTSTART:20251026T010000
END:DAYLIGHT
END:VTIMEZONE
BEGIN:VEVENT
DTSTART;TZID=Europe/Dublin:20240615T103000
DTEND;TZID=Europe/Dublin:20240615T103000
DTSTAMP:20260422T175011
CREATED:20240529T095500Z
LAST-MODIFIED:20240529T105355Z
UID:9921-1718447400-1718447400@igi.ie
SUMMARY:Belfast Geological Society Field Trip – to Conlig/Whitespots Lead Mines
DESCRIPTION:Field Trip led by Ian Enlander. \nDate: 15th June 2024\, \nMeet at 10.30am car park beside Somme Museum\, Bangor Road. \nUse parking facility for Whitespots Country Park\, not the museum car park. Grid ref J498 764 \nMore details on the Belfast Geologist’ Society website: Field Trips – Belfast Geologist’ Society (belfastgeologists.org)
URL:https://igi.ie/event/belfast-geological-society-field-trip-to-conlig-whitespots-lead-mines/
LOCATION:Somme Museum\, Newtownards\, 233 Bangor Rd\, Newtownards\, BT23 7PH\, United Kingdom
CATEGORIES:Event
END:VEVENT
END:VCALENDAR