BEGIN:VCALENDAR
VERSION:2.0
PRODID:-//The Institute of Geologists of Ireland - ECPv6.15.20//NONSGML v1.0//EN
CALSCALE:GREGORIAN
METHOD:PUBLISH
X-WR-CALNAME:The Institute of Geologists of Ireland
X-ORIGINAL-URL:https://igi.ie
X-WR-CALDESC:Events for The Institute of Geologists of Ireland
REFRESH-INTERVAL;VALUE=DURATION:PT1H
X-Robots-Tag:noindex
X-PUBLISHED-TTL:PT1H
BEGIN:VTIMEZONE
TZID:Europe/Dublin
BEGIN:STANDARD
TZOFFSETFROM:+0000
TZOFFSETTO:+0100
TZNAME:IST
DTSTART:20230326T010000
END:STANDARD
BEGIN:DAYLIGHT
TZOFFSETFROM:+0100
TZOFFSETTO:+0000
TZNAME:GMT
DTSTART:20231029T010000
END:DAYLIGHT
BEGIN:STANDARD
TZOFFSETFROM:+0000
TZOFFSETTO:+0100
TZNAME:IST
DTSTART:20240331T010000
END:STANDARD
BEGIN:DAYLIGHT
TZOFFSETFROM:+0100
TZOFFSETTO:+0000
TZNAME:GMT
DTSTART:20241027T010000
END:DAYLIGHT
BEGIN:STANDARD
TZOFFSETFROM:+0000
TZOFFSETTO:+0100
TZNAME:IST
DTSTART:20250330T010000
END:STANDARD
BEGIN:DAYLIGHT
TZOFFSETFROM:+0100
TZOFFSETTO:+0000
TZNAME:GMT
DTSTART:20251026T010000
END:DAYLIGHT
END:VTIMEZONE
BEGIN:VEVENT
DTSTART;VALUE=DATE:20240620
DTEND;VALUE=DATE:20240621
DTSTAMP:20260422T190558
CREATED:20240501T132028Z
LAST-MODIFIED:20240501T132028Z
UID:9721-1718841600-1718927999@igi.ie
SUMMARY:Save the Date – GSNI and Ulster University are hosting a ‘Heat Pumps: Knowledge X-Change and Networking Event
DESCRIPTION:The Geological Survey of Northern Ireland (GSNI) and Ulster University are hosting a ‘Heat Pumps: Knowledge X-Change and Networking Event’ on the 20th June 2024 in York Street\, Belfast. \nThis event is for SMEs\, entrepreneurs\, academics\, policymakers\, estate managers\, corporates\, investors and third sector participants involved and/or interested in the heat pump engineering\, manufacture and installation supply chain. \nThis initiative is supported by professional scientific and technical advice from the NI Geothermal Advisory Committee. \nPlease email GSNI to submit your expressions of interest to attend: gsni@economy-ni.gov.uk \nThe agenda and registration information will be released in the coming week.
URL:https://igi.ie/event/save-the-date-gsni-and-ulster-university-are-hosting-a-heat-pumps-knowledge-x-change-and-networking-event/
LOCATION:York Street\, Belfast\, York Street\, Belfast\, Northern Ireland\, United Kingdom
CATEGORIES:Event
END:VEVENT
END:VCALENDAR