BEGIN:VCALENDAR
VERSION:2.0
PRODID:-//The Institute of Geologists of Ireland - ECPv6.15.20//NONSGML v1.0//EN
CALSCALE:GREGORIAN
METHOD:PUBLISH
X-ORIGINAL-URL:https://igi.ie
X-WR-CALDESC:Events for The Institute of Geologists of Ireland
REFRESH-INTERVAL;VALUE=DURATION:PT1H
X-Robots-Tag:noindex
X-PUBLISHED-TTL:PT1H
BEGIN:VTIMEZONE
TZID:Europe/Dublin
BEGIN:STANDARD
TZOFFSETFROM:+0000
TZOFFSETTO:+0100
TZNAME:IST
DTSTART:20230326T010000
END:STANDARD
BEGIN:DAYLIGHT
TZOFFSETFROM:+0100
TZOFFSETTO:+0000
TZNAME:GMT
DTSTART:20231029T010000
END:DAYLIGHT
BEGIN:STANDARD
TZOFFSETFROM:+0000
TZOFFSETTO:+0100
TZNAME:IST
DTSTART:20240331T010000
END:STANDARD
BEGIN:DAYLIGHT
TZOFFSETFROM:+0100
TZOFFSETTO:+0000
TZNAME:GMT
DTSTART:20241027T010000
END:DAYLIGHT
BEGIN:STANDARD
TZOFFSETFROM:+0000
TZOFFSETTO:+0100
TZNAME:IST
DTSTART:20250330T010000
END:STANDARD
BEGIN:DAYLIGHT
TZOFFSETFROM:+0100
TZOFFSETTO:+0000
TZNAME:GMT
DTSTART:20251026T010000
END:DAYLIGHT
END:VTIMEZONE
BEGIN:VEVENT
DTSTART;VALUE=DATE:20240630
DTEND;VALUE=DATE:20240701
DTSTAMP:20260422T175021
CREATED:20240605T121348Z
LAST-MODIFIED:20240626T115602Z
UID:9947-1719705600-1719791999@igi.ie
SUMMARY:IGA Day Excursion: Balscadden Bay & Howth\, Co. Dublin
DESCRIPTION:Irish Geological Association (IGA) Day Excursion – Sunday 30th June 2024 from 9am to c.3pm. \nThis field excursion will be led by Prof. John Walsh (UCD & iCRAG) around the Howth/Balscadden area of North Dublin. \nPlease note: This excursion is not accessible by DART on Sunday as no train arrives in time. Car-pooling is available so please state if you are interested in this option and IGA will do their best to facilitate you. \nSee the flyer here for more detailed information and how to register or email info@geology.ie
URL:https://igi.ie/event/iga-day-excursion-balscadden-bay-howth-co-dublin/
LOCATION:Balscadden Howth\, Co Dublin\, Balscadden Rd\, Howth\, Dublin\, Ireland
CATEGORIES:Event
END:VEVENT
END:VCALENDAR