BEGIN:VCALENDAR
VERSION:2.0
PRODID:-//The Institute of Geologists of Ireland - ECPv6.15.20//NONSGML v1.0//EN
CALSCALE:GREGORIAN
METHOD:PUBLISH
X-ORIGINAL-URL:https://igi.ie
X-WR-CALDESC:Events for The Institute of Geologists of Ireland
REFRESH-INTERVAL;VALUE=DURATION:PT1H
X-Robots-Tag:noindex
X-PUBLISHED-TTL:PT1H
BEGIN:VTIMEZONE
TZID:Europe/Dublin
BEGIN:STANDARD
TZOFFSETFROM:+0000
TZOFFSETTO:+0100
TZNAME:IST
DTSTART:20230326T010000
END:STANDARD
BEGIN:DAYLIGHT
TZOFFSETFROM:+0100
TZOFFSETTO:+0000
TZNAME:GMT
DTSTART:20231029T010000
END:DAYLIGHT
BEGIN:STANDARD
TZOFFSETFROM:+0000
TZOFFSETTO:+0100
TZNAME:IST
DTSTART:20240331T010000
END:STANDARD
BEGIN:DAYLIGHT
TZOFFSETFROM:+0100
TZOFFSETTO:+0000
TZNAME:GMT
DTSTART:20241027T010000
END:DAYLIGHT
BEGIN:STANDARD
TZOFFSETFROM:+0000
TZOFFSETTO:+0100
TZNAME:IST
DTSTART:20250330T010000
END:STANDARD
BEGIN:DAYLIGHT
TZOFFSETFROM:+0100
TZOFFSETTO:+0000
TZNAME:GMT
DTSTART:20251026T010000
END:DAYLIGHT
END:VTIMEZONE
BEGIN:VEVENT
DTSTART;VALUE=DATE:20240713
DTEND;VALUE=DATE:20240714
DTSTAMP:20260422T162419
CREATED:20240605T121655Z
LAST-MODIFIED:20240626T154909Z
UID:9950-1720828800-1720915199@igi.ie
SUMMARY:IGA Day Excursion on Geology and Art
DESCRIPTION:Irish Geological Association (IGA) Day Excursion on Geology & Art – Saturday 13th July 2024. \nThis excursion will start in the \nTicknock Forest area of South Dublin Mountains\nat 10:30am and continue in the afternoon to the \nRoyal Hibernian Academy (RHA) Exhibition (meeting there at 2:30pm). \nThe day will be led by Dr William (Bill) Sheppard. \nFurther information is available on the flyer here or email info@geology.ie
URL:https://igi.ie/event/iga-day-excursion-the-visual-arts-and-geology-at-the-royal-hibernian-academy-and-beyond/
LOCATION:Ticknock Forest and Royal Hibernian Academy\, Dublin\, Ticknock\, Co Dublin\, Dublin\, Ireland
CATEGORIES:Event
END:VEVENT
END:VCALENDAR