BEGIN:VCALENDAR
VERSION:2.0
PRODID:-//The Institute of Geologists of Ireland - ECPv6.15.20//NONSGML v1.0//EN
CALSCALE:GREGORIAN
METHOD:PUBLISH
X-WR-CALNAME:The Institute of Geologists of Ireland
X-ORIGINAL-URL:https://igi.ie
X-WR-CALDESC:Events for The Institute of Geologists of Ireland
REFRESH-INTERVAL;VALUE=DURATION:PT1H
X-Robots-Tag:noindex
X-PUBLISHED-TTL:PT1H
BEGIN:VTIMEZONE
TZID:Europe/Dublin
BEGIN:STANDARD
TZOFFSETFROM:+0000
TZOFFSETTO:+0100
TZNAME:IST
DTSTART:20230326T010000
END:STANDARD
BEGIN:DAYLIGHT
TZOFFSETFROM:+0100
TZOFFSETTO:+0000
TZNAME:GMT
DTSTART:20231029T010000
END:DAYLIGHT
BEGIN:STANDARD
TZOFFSETFROM:+0000
TZOFFSETTO:+0100
TZNAME:IST
DTSTART:20240331T010000
END:STANDARD
BEGIN:DAYLIGHT
TZOFFSETFROM:+0100
TZOFFSETTO:+0000
TZNAME:GMT
DTSTART:20241027T010000
END:DAYLIGHT
BEGIN:STANDARD
TZOFFSETFROM:+0000
TZOFFSETTO:+0100
TZNAME:IST
DTSTART:20250330T010000
END:STANDARD
BEGIN:DAYLIGHT
TZOFFSETFROM:+0100
TZOFFSETTO:+0000
TZNAME:GMT
DTSTART:20251026T010000
END:DAYLIGHT
END:VTIMEZONE
BEGIN:VEVENT
DTSTART;TZID=Europe/Dublin:20240807T103000
DTEND;TZID=Europe/Dublin:20240807T120000
DTSTAMP:20260422T150806
CREATED:20240731T122824Z
LAST-MODIFIED:20240731T122824Z
UID:10246-1723026600-1723032000@igi.ie
SUMMARY:Geological Survey of Northern Ireland (GSNI) Map Launch
DESCRIPTION:GSNI are delighted to be hosting a \n‘Launch of the updated Engineering Geology map of Belfast’ \non Wednesday 7th August 2024 at 10:30am until 12pm\, at PRONI\, Titanic Quarter\, Belfast. \nThis is an update to the original 1970s map to meet the needs of numerous geotechnical\, civil and environmental engineering stakeholders. \nThe map will be freely available to download from GSNI’s website after the launch. \nMore details about the event and how to register to attend are available at this Eventbrite link Launch of the Updated Engineering Geology Map of Belfast Tickets\, Wed\, Aug 7\, 2024 at 10:30 AM | Eventbrite
URL:https://igi.ie/event/geological-survey-of-northern-ireland-gsni-map-launch/
LOCATION:PRONI\, Titanic Quarter\, Belfast\, 2 Titanic Boulevard Titanic Quarter\, Belfast\, BT3 9HQ\, United Kingdom
CATEGORIES:Event
END:VEVENT
END:VCALENDAR