BEGIN:VCALENDAR
VERSION:2.0
PRODID:-//The Institute of Geologists of Ireland - ECPv6.15.20//NONSGML v1.0//EN
CALSCALE:GREGORIAN
METHOD:PUBLISH
X-ORIGINAL-URL:https://igi.ie
X-WR-CALDESC:Events for The Institute of Geologists of Ireland
REFRESH-INTERVAL;VALUE=DURATION:PT1H
X-Robots-Tag:noindex
X-PUBLISHED-TTL:PT1H
BEGIN:VTIMEZONE
TZID:Europe/Dublin
BEGIN:STANDARD
TZOFFSETFROM:+0000
TZOFFSETTO:+0100
TZNAME:IST
DTSTART:20230326T010000
END:STANDARD
BEGIN:DAYLIGHT
TZOFFSETFROM:+0100
TZOFFSETTO:+0000
TZNAME:GMT
DTSTART:20231029T010000
END:DAYLIGHT
BEGIN:STANDARD
TZOFFSETFROM:+0000
TZOFFSETTO:+0100
TZNAME:IST
DTSTART:20240331T010000
END:STANDARD
BEGIN:DAYLIGHT
TZOFFSETFROM:+0100
TZOFFSETTO:+0000
TZNAME:GMT
DTSTART:20241027T010000
END:DAYLIGHT
BEGIN:STANDARD
TZOFFSETFROM:+0000
TZOFFSETTO:+0100
TZNAME:IST
DTSTART:20250330T010000
END:STANDARD
BEGIN:DAYLIGHT
TZOFFSETFROM:+0100
TZOFFSETTO:+0000
TZNAME:GMT
DTSTART:20251026T010000
END:DAYLIGHT
END:VTIMEZONE
BEGIN:VEVENT
DTSTART;VALUE=DATE:20240914
DTEND;VALUE=DATE:20240916
DTSTAMP:20260422T150945
CREATED:20240403T135956Z
LAST-MODIFIED:20240529T112103Z
UID:9619-1726272000-1726444799@igi.ie
SUMMARY:Save The Date - IAEG Annual Conference
DESCRIPTION:Registration is now open for the Annual IAEG Conference to be held on the 14th and 15th September in the Radisson Hotel in Sligo. \nThe theme of the conference will be Critical Raw Materials. \nYou can register at IAEG – IAEG Annual Conference- Securing Resources: CRMs in Europe where there is also more information on registration costs\, accommodation\, conference dinner and contact details. \nIf you have a paper or know someone who could contribute to the Conference please get in touch IAEG – Contact
URL:https://igi.ie/event/irish-association-for-economic-geologists-conference/
LOCATION:Radisson Hotel Sligo\, Ballincar\,\, Rosses Point\, Co. Sligo\, F91 XW7Y\, Ireland
CATEGORIES:Conferences,Event
END:VEVENT
BEGIN:VEVENT
DTSTART;TZID=Europe/Dublin:20240914T130000
DTEND;TZID=Europe/Dublin:20240914T130000
DTSTAMP:20260422T150945
CREATED:20240828T101150Z
LAST-MODIFIED:20240828T101720Z
UID:10298-1726318800-1726318800@igi.ie
SUMMARY:Belfast Geologists Society fieldtrip
DESCRIPTION:Joint event with Belfast Geologists’ Society and Northern Ireland Regional Group (Geological Society\, London) to \nKillard Nature Reserve and Killard Point on Saturday 14th September 2024. \nThis walk\, which will last at least 2 hours\, will be led by Dr. Alastair Ruffell. \nMeet at the layby at Mill Quarter Bay\, Killard Road at 1:00pm. \nFull details on website Killard Point with Dr. Alastair Ruffell – Belfast Geologist’ Society (belfastgeologists.org)
URL:https://igi.ie/event/belfast-geologists-society-fieldtrip-2/
LOCATION:Killard Nature Reserve\, Downpatrick\, BT30 7PH\, United Kingdom
CATEGORIES:Event
END:VEVENT
END:VCALENDAR