BEGIN:VCALENDAR
VERSION:2.0
PRODID:-//The Institute of Geologists of Ireland - ECPv6.15.20//NONSGML v1.0//EN
CALSCALE:GREGORIAN
METHOD:PUBLISH
X-ORIGINAL-URL:https://igi.ie
X-WR-CALDESC:Events for The Institute of Geologists of Ireland
REFRESH-INTERVAL;VALUE=DURATION:PT1H
X-Robots-Tag:noindex
X-PUBLISHED-TTL:PT1H
BEGIN:VTIMEZONE
TZID:Europe/Dublin
BEGIN:STANDARD
TZOFFSETFROM:+0000
TZOFFSETTO:+0100
TZNAME:IST
DTSTART:20230326T010000
END:STANDARD
BEGIN:DAYLIGHT
TZOFFSETFROM:+0100
TZOFFSETTO:+0000
TZNAME:GMT
DTSTART:20231029T010000
END:DAYLIGHT
BEGIN:STANDARD
TZOFFSETFROM:+0000
TZOFFSETTO:+0100
TZNAME:IST
DTSTART:20240331T010000
END:STANDARD
BEGIN:DAYLIGHT
TZOFFSETFROM:+0100
TZOFFSETTO:+0000
TZNAME:GMT
DTSTART:20241027T010000
END:DAYLIGHT
BEGIN:STANDARD
TZOFFSETFROM:+0000
TZOFFSETTO:+0100
TZNAME:IST
DTSTART:20250330T010000
END:STANDARD
BEGIN:DAYLIGHT
TZOFFSETFROM:+0100
TZOFFSETTO:+0000
TZNAME:GMT
DTSTART:20251026T010000
END:DAYLIGHT
END:VTIMEZONE
BEGIN:VEVENT
DTSTART;TZID=Europe/Dublin:20240919T160000
DTEND;TZID=Europe/Dublin:20240919T170000
DTSTAMP:20260422T135057
CREATED:20240904T121815Z
LAST-MODIFIED:20240904T121815Z
UID:10329-1726761600-1726765200@igi.ie
SUMMARY:GSNI Northern Ireland Geothermal Webinar Series
DESCRIPTION:The 7th webinar of the 2024 Northern Ireland Geothermal Webinar Series will take place Thursday 19th September 2024 between 16:00 and 17:00. \nIt is entitled “Heterogeneity in the Triassic Sherwood Sandstone reservoir in Northern Ireland: A case study in the Larne Basin”  \nand will be given by Rioko Moscardini\, Postgraduate Researcher\, University College Dublin\, iCRAG. \nThis webinar will focus on Rioko Moscardini’s PhD research which investigates how reservoir properties of the Sherwood Sandstone in Northern Ireland vary. \nHer research takes an interdisciplinary approach and it will lead to increased understanding of the geothermal potential of this reservoir on the island of Ireland. \nRegister via the Eventbrite link here Heterogeneity in the Triassic Sherwood Sandstone reservoir in NI Tickets\, Thu\, Sep 19\, 2024 at 4:00 PM | Eventbrite
URL:https://igi.ie/event/gsni-northern-ireland-geothermal-webinar-series-3/
LOCATION:Webinar
CATEGORIES:Event
END:VEVENT
END:VCALENDAR