BEGIN:VCALENDAR
VERSION:2.0
PRODID:-//The Institute of Geologists of Ireland - ECPv6.15.20//NONSGML v1.0//EN
CALSCALE:GREGORIAN
METHOD:PUBLISH
X-WR-CALNAME:The Institute of Geologists of Ireland
X-ORIGINAL-URL:https://igi.ie
X-WR-CALDESC:Events for The Institute of Geologists of Ireland
REFRESH-INTERVAL;VALUE=DURATION:PT1H
X-Robots-Tag:noindex
X-PUBLISHED-TTL:PT1H
BEGIN:VTIMEZONE
TZID:Europe/Dublin
BEGIN:STANDARD
TZOFFSETFROM:+0000
TZOFFSETTO:+0100
TZNAME:IST
DTSTART:20230326T010000
END:STANDARD
BEGIN:DAYLIGHT
TZOFFSETFROM:+0100
TZOFFSETTO:+0000
TZNAME:GMT
DTSTART:20231029T010000
END:DAYLIGHT
BEGIN:STANDARD
TZOFFSETFROM:+0000
TZOFFSETTO:+0100
TZNAME:IST
DTSTART:20240331T010000
END:STANDARD
BEGIN:DAYLIGHT
TZOFFSETFROM:+0100
TZOFFSETTO:+0000
TZNAME:GMT
DTSTART:20241027T010000
END:DAYLIGHT
BEGIN:STANDARD
TZOFFSETFROM:+0000
TZOFFSETTO:+0100
TZNAME:IST
DTSTART:20250330T010000
END:STANDARD
BEGIN:DAYLIGHT
TZOFFSETFROM:+0100
TZOFFSETTO:+0000
TZNAME:GMT
DTSTART:20251026T010000
END:DAYLIGHT
END:VTIMEZONE
BEGIN:VEVENT
DTSTART;TZID=Europe/Dublin:20240928T110000
DTEND;TZID=Europe/Dublin:20240928T170000
DTSTAMP:20260422T134934
CREATED:20240605T123433Z
LAST-MODIFIED:20240911T132630Z
UID:9957-1727521200-1727542800@igi.ie
SUMMARY:Irish Geological Association Annual Gold Panning
DESCRIPTION:The IGA annual gold panning event will be held on Saturday 28th September at 11am in Co. Wicklow. \nDetails\, including the link to the booking form\, are in the flyer here. \nPlease join them for this event in one of the most beautiful places on earth to stand by\, or in\, a stream – Sweet Vale of Avoca. \nJust be sure to book your place in good time to avoid disappointment\, as this is one of the most popular IGA events each year. \nMany thanks to the landowner\, IGA intrepid Excursions Secretary Stephen Carrington\, Frank Clissmann and Owen & Evan McFadden\, as well as staff at Geological Survey Ireland in preparation for this event.
URL:https://igi.ie/event/iga-day-excursion-peter-lewis-memorial-goldpanning/
LOCATION:Avoca\, Co Wicklow\, Co Wicklow\, Ireland
CATEGORIES:Event
END:VEVENT
END:VCALENDAR