BEGIN:VCALENDAR
VERSION:2.0
PRODID:-//The Institute of Geologists of Ireland - ECPv6.15.20//NONSGML v1.0//EN
CALSCALE:GREGORIAN
METHOD:PUBLISH
X-ORIGINAL-URL:https://igi.ie
X-WR-CALDESC:Events for The Institute of Geologists of Ireland
REFRESH-INTERVAL;VALUE=DURATION:PT1H
X-Robots-Tag:noindex
X-PUBLISHED-TTL:PT1H
BEGIN:VTIMEZONE
TZID:Europe/Dublin
BEGIN:STANDARD
TZOFFSETFROM:+0000
TZOFFSETTO:+0100
TZNAME:IST
DTSTART:20230326T010000
END:STANDARD
BEGIN:DAYLIGHT
TZOFFSETFROM:+0100
TZOFFSETTO:+0000
TZNAME:GMT
DTSTART:20231029T010000
END:DAYLIGHT
BEGIN:STANDARD
TZOFFSETFROM:+0000
TZOFFSETTO:+0100
TZNAME:IST
DTSTART:20240331T010000
END:STANDARD
BEGIN:DAYLIGHT
TZOFFSETFROM:+0100
TZOFFSETTO:+0000
TZNAME:GMT
DTSTART:20241027T010000
END:DAYLIGHT
BEGIN:STANDARD
TZOFFSETFROM:+0000
TZOFFSETTO:+0100
TZNAME:IST
DTSTART:20250330T010000
END:STANDARD
BEGIN:DAYLIGHT
TZOFFSETFROM:+0100
TZOFFSETTO:+0000
TZNAME:GMT
DTSTART:20251026T010000
END:DAYLIGHT
END:VTIMEZONE
BEGIN:VEVENT
DTSTART;TZID=Europe/Dublin:20241009T123000
DTEND;TZID=Europe/Dublin:20241009T123000
DTSTAMP:20260422T123431
CREATED:20241001T175735Z
LAST-MODIFIED:20241001T175735Z
UID:10391-1728477000-1728477000@igi.ie
SUMMARY:Irish Mining and Quarrying Society (IMQS) online TechTalk
DESCRIPTION:MQS will be hosting an online talk on the topic of: \n“Dewatering & Shaft Refurbishment at South Crofty Tin Mine in Cornwall” \non Wednesday 9th October at 12:30pm. \nThe talk will be given by Steve Tarrant\, Mine Manager of South Crofty Mine and the Zoom link is available below:\nhttps://us06web.zoom.us/j/85437732131?pwd=av0kKtYabqaHk6tUW0Bu6vPhRLCvwU.1\nMeeting ID: 854 3773 2131\nPasscode: 541638
URL:https://igi.ie/event/irish-mining-and-quarrying-society-imqs-online-techtalk/
LOCATION:ZOOM
CATEGORIES:Event
END:VEVENT
END:VCALENDAR