BEGIN:VCALENDAR
VERSION:2.0
PRODID:-//The Institute of Geologists of Ireland - ECPv6.15.20//NONSGML v1.0//EN
CALSCALE:GREGORIAN
METHOD:PUBLISH
X-WR-CALNAME:The Institute of Geologists of Ireland
X-ORIGINAL-URL:https://igi.ie
X-WR-CALDESC:Events for The Institute of Geologists of Ireland
REFRESH-INTERVAL;VALUE=DURATION:PT1H
X-Robots-Tag:noindex
X-PUBLISHED-TTL:PT1H
BEGIN:VTIMEZONE
TZID:Europe/Dublin
BEGIN:STANDARD
TZOFFSETFROM:+0000
TZOFFSETTO:+0100
TZNAME:IST
DTSTART:20230326T010000
END:STANDARD
BEGIN:DAYLIGHT
TZOFFSETFROM:+0100
TZOFFSETTO:+0000
TZNAME:GMT
DTSTART:20231029T010000
END:DAYLIGHT
BEGIN:STANDARD
TZOFFSETFROM:+0000
TZOFFSETTO:+0100
TZNAME:IST
DTSTART:20240331T010000
END:STANDARD
BEGIN:DAYLIGHT
TZOFFSETFROM:+0100
TZOFFSETTO:+0000
TZNAME:GMT
DTSTART:20241027T010000
END:DAYLIGHT
BEGIN:STANDARD
TZOFFSETFROM:+0000
TZOFFSETTO:+0100
TZNAME:IST
DTSTART:20250330T010000
END:STANDARD
BEGIN:DAYLIGHT
TZOFFSETFROM:+0100
TZOFFSETTO:+0000
TZNAME:GMT
DTSTART:20251026T010000
END:DAYLIGHT
END:VTIMEZONE
BEGIN:VEVENT
DTSTART;TZID=Europe/Dublin:20241010T183000
DTEND;TZID=Europe/Dublin:20241010T183000
DTSTAMP:20260422T122941
CREATED:20240925T101536Z
LAST-MODIFIED:20240925T112712Z
UID:10366-1728585000-1728585000@igi.ie
SUMMARY:IGI Evening Webinar: Primacy Effects in Environmental Attitudes in Mineral Exploration.
DESCRIPTION:Olga Poluektova\, the primary author of the ESRI Research Bulletin titled: ‘Primacy effects in the formation of environmental attitudes: The case of mineral exploration’ will present the methodology and results of the ESRI study at 18:30 on Thursday 10th October\, online via Zoom. \nA link to the study is given below:\nhttps://www.esri.ie/publications/primacy-effects-in-the-formation-of-environmental-attitudes-the-case-of-mineral-0?utm_source=Newsweaver&utm_medium=email&utm_term=Download&utm_content=All+Subscribers&utm_campaign=Primacy+effects+in+the+formation+of+environmental+attitudes%3A+The+case+of+mineral+exploration \nDetails on how to log on to the meeting will be shared following registration. If you are interested in attending\, please register in advance by emailing the IGI office at info@igi.ie \, preferably before 9th October.
URL:https://igi.ie/event/igi-evening-webinar/
LOCATION:ZOOM
CATEGORIES:Event
END:VEVENT
END:VCALENDAR