BEGIN:VCALENDAR
VERSION:2.0
PRODID:-//The Institute of Geologists of Ireland - ECPv6.15.20//NONSGML v1.0//EN
CALSCALE:GREGORIAN
METHOD:PUBLISH
X-WR-CALNAME:The Institute of Geologists of Ireland
X-ORIGINAL-URL:https://igi.ie
X-WR-CALDESC:Events for The Institute of Geologists of Ireland
REFRESH-INTERVAL;VALUE=DURATION:PT1H
X-Robots-Tag:noindex
X-PUBLISHED-TTL:PT1H
BEGIN:VTIMEZONE
TZID:Europe/Dublin
BEGIN:STANDARD
TZOFFSETFROM:+0000
TZOFFSETTO:+0100
TZNAME:IST
DTSTART:20230326T010000
END:STANDARD
BEGIN:DAYLIGHT
TZOFFSETFROM:+0100
TZOFFSETTO:+0000
TZNAME:GMT
DTSTART:20231029T010000
END:DAYLIGHT
BEGIN:STANDARD
TZOFFSETFROM:+0000
TZOFFSETTO:+0100
TZNAME:IST
DTSTART:20240331T010000
END:STANDARD
BEGIN:DAYLIGHT
TZOFFSETFROM:+0100
TZOFFSETTO:+0000
TZNAME:GMT
DTSTART:20241027T010000
END:DAYLIGHT
BEGIN:STANDARD
TZOFFSETFROM:+0000
TZOFFSETTO:+0100
TZNAME:IST
DTSTART:20250330T010000
END:STANDARD
BEGIN:DAYLIGHT
TZOFFSETFROM:+0100
TZOFFSETTO:+0000
TZNAME:GMT
DTSTART:20251026T010000
END:DAYLIGHT
END:VTIMEZONE
BEGIN:VEVENT
DTSTART;TZID=Europe/Dublin:20241014T150000
DTEND;TZID=Europe/Dublin:20241014T150000
DTSTAMP:20260422T134933
CREATED:20241001T180424Z
LAST-MODIFIED:20241001T183130Z
UID:10394-1728918000-1728918000@igi.ie
SUMMARY:Belfast Geologists Society trip to Geoenergy Discovery Centre\, Stormont
DESCRIPTION:This event is a visit/guided tour of the Geoenergy Discovery Centre at Stormont followed by a visit to the drilling site on Monday 14th October at 3pm. \nPRE BOOKING is ESSENTIAL. A maximum of 15 people can be accommodated – please email bgsfieldtrips@outlook.com to book your place. \nMeet up 3pm at the GeoEnergy Discovery Centre which is adjacent to the Mo Mowlam Playpark. \nAfter the usual interactive presentation one of their team will walk fieldtrip participants over to the drilling site. \nPlease note that if you are unable to secure a place to visit the GeoEnergy Discovery Centre with the Belfast Geol Soc\, there are ‘drop in’ times advertised on the website – https://geoenergyni.org/demonstrator-projects/#locations – scroll down to GEOENERGY DISCOVERY CENTRE section for times and dates – no booking required.
URL:https://igi.ie/event/belfast-geologists-society-trip-to-geoenergy-discovery-centre-stormont/
LOCATION:The Stormont Estate\, Stormont\, Belfast\, BT4 3SH\, United Kingdom
CATEGORIES:Event
END:VEVENT
END:VCALENDAR