BEGIN:VCALENDAR
VERSION:2.0
PRODID:-//The Institute of Geologists of Ireland - ECPv6.15.20//NONSGML v1.0//EN
CALSCALE:GREGORIAN
METHOD:PUBLISH
X-WR-CALNAME:The Institute of Geologists of Ireland
X-ORIGINAL-URL:https://igi.ie
X-WR-CALDESC:Events for The Institute of Geologists of Ireland
REFRESH-INTERVAL;VALUE=DURATION:PT1H
X-Robots-Tag:noindex
X-PUBLISHED-TTL:PT1H
BEGIN:VTIMEZONE
TZID:Europe/Dublin
BEGIN:STANDARD
TZOFFSETFROM:+0000
TZOFFSETTO:+0100
TZNAME:IST
DTSTART:20230326T010000
END:STANDARD
BEGIN:DAYLIGHT
TZOFFSETFROM:+0100
TZOFFSETTO:+0000
TZNAME:GMT
DTSTART:20231029T010000
END:DAYLIGHT
BEGIN:STANDARD
TZOFFSETFROM:+0000
TZOFFSETTO:+0100
TZNAME:IST
DTSTART:20240331T010000
END:STANDARD
BEGIN:DAYLIGHT
TZOFFSETFROM:+0100
TZOFFSETTO:+0000
TZNAME:GMT
DTSTART:20241027T010000
END:DAYLIGHT
BEGIN:STANDARD
TZOFFSETFROM:+0000
TZOFFSETTO:+0100
TZNAME:IST
DTSTART:20250330T010000
END:STANDARD
BEGIN:DAYLIGHT
TZOFFSETFROM:+0100
TZOFFSETTO:+0000
TZNAME:GMT
DTSTART:20251026T010000
END:DAYLIGHT
END:VTIMEZONE
BEGIN:VEVENT
DTSTART;VALUE=DATE:20241016
DTEND;VALUE=DATE:20241019
DTSTAMP:20260422T123305
CREATED:20240904T123633Z
LAST-MODIFIED:20240904T123633Z
UID:10335-1729036800-1729295999@igi.ie
SUMMARY:Geothermal Heat Pump Days 2024
DESCRIPTION:This event\, supported by the Geothermal Association of Ireland will be held in Dublin on the 16th – 18th October and will feature discussions and demonstrations about the benefits of Geothermal Heat Pumps. \nThis event will unite policymakers\, scientists\, and industry experts to address the climate and energy challenges ahead. \nIt promises to foster a deeper understanding of the opportunities and challenges in the geothermal heat pump sector\, driving forward the transition to a sustainable\, decarbonised energy future. \nIt will also include a site visit to the geothermal facility at the newly refurbished Rubrics Building in Trinity College. \nMore information and a link to register can be found here Geothermal Heat Pump Days 2024 Tickets\, Wed\, Oct 16\, 2024 at 9:00 AM | Eventbrite
URL:https://igi.ie/event/geothermal-heat-pump-days-2024/
LOCATION:Excise Walk\, Dublin 1\, North Wall\, Dublin\, Ireland
CATEGORIES:Event
END:VEVENT
BEGIN:VEVENT
DTSTART;TZID=Europe/Dublin:20241016T140000
DTEND;TZID=Europe/Dublin:20241016T160000
DTSTAMP:20260422T123305
CREATED:20240911T131145Z
LAST-MODIFIED:20240911T131513Z
UID:10344-1729087200-1729094400@igi.ie
SUMMARY:Geoscience Ireland “Communicating for Impact” training
DESCRIPTION:16th October 2024 between 2pm and 4pm in-person at Science Centre (Room E 2.14)\, UCD Belfield\, Dublin 4. \nIn partnership with Eagle’s Flight\, Geoscience Ireland is offering a unique opportunity for its members to take part in an in-person programme that has helped teams around the world learn the vital communication skills necessary to get results. \nMore information can be found at this link: \n(2) Eagle’s Flight – Communicating with Impact | LinkedIn. To register\, please email sean.finlay@geoscience.ie
URL:https://igi.ie/event/geoscience-ireland-communicating-for-impact-training/
LOCATION:Science Centre\, UCD Dublin\, University College Dublin\, Belfield\, Dublin\, Ireland
CATEGORIES:Event
END:VEVENT
BEGIN:VEVENT
DTSTART;TZID=Europe/Dublin:20241016T150000
DTEND;TZID=Europe/Dublin:20241016T160000
DTSTAMP:20260422T123305
CREATED:20241009T095952Z
LAST-MODIFIED:20241009T095952Z
UID:10414-1729090800-1729094400@igi.ie
SUMMARY:Geological Society of London webinar: Harry Young's viral rock map of Scotland
DESCRIPTION:As part of Earth Science Week 2024\, the Geological Society are holding a webinar on the 16th October between 15:00 and 16:00\, to learn more about Harry Young’s viral rock map of Scotland  The Geological Society (geolsoc.org.uk) and featured on BBC News earlier this year Rock star: I’ve spent 30 years making a Scotland map from pebbles (bbc.com). \nHear about Harry’s inspiration for the map\, anecdotes from the field and how it felt to go viral. \nRegister here The Making of a Viral Rock Map with Harry Young: An Earth Science Week Public Lecture | Tickets | Science & Technology | Billetto — United Kingdom
URL:https://igi.ie/event/geological-society-of-london-webinar-harry-youngs-viral-rock-map-of-scotland/
LOCATION:Webinar
CATEGORIES:Event
END:VEVENT
END:VCALENDAR