BEGIN:VCALENDAR
VERSION:2.0
PRODID:-//The Institute of Geologists of Ireland - ECPv6.15.20//NONSGML v1.0//EN
CALSCALE:GREGORIAN
METHOD:PUBLISH
X-WR-CALNAME:The Institute of Geologists of Ireland
X-ORIGINAL-URL:https://igi.ie
X-WR-CALDESC:Events for The Institute of Geologists of Ireland
REFRESH-INTERVAL;VALUE=DURATION:PT1H
X-Robots-Tag:noindex
X-PUBLISHED-TTL:PT1H
BEGIN:VTIMEZONE
TZID:Europe/Dublin
BEGIN:STANDARD
TZOFFSETFROM:+0000
TZOFFSETTO:+0100
TZNAME:IST
DTSTART:20230326T010000
END:STANDARD
BEGIN:DAYLIGHT
TZOFFSETFROM:+0100
TZOFFSETTO:+0000
TZNAME:GMT
DTSTART:20231029T010000
END:DAYLIGHT
BEGIN:STANDARD
TZOFFSETFROM:+0000
TZOFFSETTO:+0100
TZNAME:IST
DTSTART:20240331T010000
END:STANDARD
BEGIN:DAYLIGHT
TZOFFSETFROM:+0100
TZOFFSETTO:+0000
TZNAME:GMT
DTSTART:20241027T010000
END:DAYLIGHT
BEGIN:STANDARD
TZOFFSETFROM:+0000
TZOFFSETTO:+0100
TZNAME:IST
DTSTART:20250330T010000
END:STANDARD
BEGIN:DAYLIGHT
TZOFFSETFROM:+0100
TZOFFSETTO:+0000
TZNAME:GMT
DTSTART:20251026T010000
END:DAYLIGHT
END:VTIMEZONE
BEGIN:VEVENT
DTSTART;VALUE=DATE:20241016
DTEND;VALUE=DATE:20241019
DTSTAMP:20260422T122945
CREATED:20240904T123633Z
LAST-MODIFIED:20240904T123633Z
UID:10335-1729036800-1729295999@igi.ie
SUMMARY:Geothermal Heat Pump Days 2024
DESCRIPTION:This event\, supported by the Geothermal Association of Ireland will be held in Dublin on the 16th – 18th October and will feature discussions and demonstrations about the benefits of Geothermal Heat Pumps. \nThis event will unite policymakers\, scientists\, and industry experts to address the climate and energy challenges ahead. \nIt promises to foster a deeper understanding of the opportunities and challenges in the geothermal heat pump sector\, driving forward the transition to a sustainable\, decarbonised energy future. \nIt will also include a site visit to the geothermal facility at the newly refurbished Rubrics Building in Trinity College. \nMore information and a link to register can be found here Geothermal Heat Pump Days 2024 Tickets\, Wed\, Oct 16\, 2024 at 9:00 AM | Eventbrite
URL:https://igi.ie/event/geothermal-heat-pump-days-2024/
LOCATION:Excise Walk\, Dublin 1\, North Wall\, Dublin\, Ireland
CATEGORIES:Event
END:VEVENT
BEGIN:VEVENT
DTSTART;VALUE=DATE:20241017
DTEND;VALUE=DATE:20241018
DTSTAMP:20260422T122945
CREATED:20241009T102345Z
LAST-MODIFIED:20241009T102345Z
UID:10417-1729123200-1729209599@igi.ie
SUMMARY:The Hydrogeological Group of Geological Society London: Groundwater Modellers Forum
DESCRIPTION:The Hydrogeological Group of Geological Society London are hosting an event for the 20th Anniversary of the Groundwater Modellers Forum on the 17th October 2024 as a hybrid event making remote attendance by IGI members possible. \nThe theme for this year’s conference is “Achievements in the last 20 years; new challenges for the future”. \nThey have invited their presenters to tell us how knowledge and techniques have developed over the last 20 years and what are the upcoming challenges that we will need to turn our attention to in the future. \nThe presenters will show us results and reflections from a broad range of sectors and research areas. Please see the link Groundwater Modellers’ Forum 20th anniversary – The Hydrogeological Group (hydrogroup.org.uk) for more information. \nThe Hydrogeological Group has very kindly allowed IGI members to avail of the Geol. Soc. members rate (£100 Stg for remote attendance)\, just put in your IGI membership number into the notes and comments section when registering. Please note that the deadline for online attendance registration is next Monday\, 14th October.
URL:https://igi.ie/event/the-hydrogeological-group-of-geological-society-london-groundwater-modellers-forum-2/
LOCATION:The Priory Rooms Meeting & Conference Centre\, Birmingham and online\, Quaker Meeting House\, 40 Bull Street\, Birmingham\, B4 6AF\, United Kingdom
CATEGORIES:Event
END:VEVENT
END:VCALENDAR