BEGIN:VCALENDAR
VERSION:2.0
PRODID:-//The Institute of Geologists of Ireland - ECPv6.15.20//NONSGML v1.0//EN
CALSCALE:GREGORIAN
METHOD:PUBLISH
X-WR-CALNAME:The Institute of Geologists of Ireland
X-ORIGINAL-URL:https://igi.ie
X-WR-CALDESC:Events for The Institute of Geologists of Ireland
REFRESH-INTERVAL;VALUE=DURATION:PT1H
X-Robots-Tag:noindex
X-PUBLISHED-TTL:PT1H
BEGIN:VTIMEZONE
TZID:Europe/Dublin
BEGIN:STANDARD
TZOFFSETFROM:+0000
TZOFFSETTO:+0100
TZNAME:IST
DTSTART:20230326T010000
END:STANDARD
BEGIN:DAYLIGHT
TZOFFSETFROM:+0100
TZOFFSETTO:+0000
TZNAME:GMT
DTSTART:20231029T010000
END:DAYLIGHT
BEGIN:STANDARD
TZOFFSETFROM:+0000
TZOFFSETTO:+0100
TZNAME:IST
DTSTART:20240331T010000
END:STANDARD
BEGIN:DAYLIGHT
TZOFFSETFROM:+0100
TZOFFSETTO:+0000
TZNAME:GMT
DTSTART:20241027T010000
END:DAYLIGHT
BEGIN:STANDARD
TZOFFSETFROM:+0000
TZOFFSETTO:+0100
TZNAME:IST
DTSTART:20250330T010000
END:STANDARD
BEGIN:DAYLIGHT
TZOFFSETFROM:+0100
TZOFFSETTO:+0000
TZNAME:GMT
DTSTART:20251026T010000
END:DAYLIGHT
END:VTIMEZONE
BEGIN:VEVENT
DTSTART;TZID=Europe/Dublin:20241019T093000
DTEND;TZID=Europe/Dublin:20241019T163000
DTSTAMP:20260422T122942
CREATED:20241001T181935Z
LAST-MODIFIED:20241001T183754Z
UID:10397-1729330200-1729355400@igi.ie
SUMMARY:IAEG Core Logging Course
DESCRIPTION:Join the Irish Association for Economic Geologists (IAEG) for their 2024 Core Logging Course hosted in the Lisheen Core facility. \nThe course will take place on Saturday the 19th of October from 09:30 to 16:30 at the Lisheen Core store\, near Thurles. Registration is required at: IAEG – IAEG Logging Course – 2024. \nThe course will be hosted by IAEG council members\, with presentations from Miller O’Prey and John Colthurst. \nThis course is suited to Earth Science students and early-career geologists looking for an introduction to the process of core logging. Course content includes best practices for gathering lithological\, structural and alteration information from core\, mineral estimation\, logistics of core handling and QAQC. \nCore logging is an invaluable and essential skill for any geologist and not something commonly taught during university courses\, this is a great opportunity to gain hands-on experience. \nThe cost is €20 for IAEG members\, €40 for student non-members* and €80 for non-members* (*This price includes membership of the IAEG). Any queries please contact: Miller O’Prey via vicepresident@iaeg.ie or message the IAEG LinkedIn page.
URL:https://igi.ie/event/iaeg-core-logging-course/
LOCATION:Lisheen Core Facility\, Co Tipperary\, Killoran\, Co Tipperary\, Thurles\, Ireland
CATEGORIES:Event
END:VEVENT
END:VCALENDAR