BEGIN:VCALENDAR
VERSION:2.0
PRODID:-//The Institute of Geologists of Ireland - ECPv6.15.20//NONSGML v1.0//EN
CALSCALE:GREGORIAN
METHOD:PUBLISH
X-WR-CALNAME:The Institute of Geologists of Ireland
X-ORIGINAL-URL:https://igi.ie
X-WR-CALDESC:Events for The Institute of Geologists of Ireland
REFRESH-INTERVAL;VALUE=DURATION:PT1H
X-Robots-Tag:noindex
X-PUBLISHED-TTL:PT1H
BEGIN:VTIMEZONE
TZID:Europe/Dublin
BEGIN:STANDARD
TZOFFSETFROM:+0000
TZOFFSETTO:+0100
TZNAME:IST
DTSTART:20230326T010000
END:STANDARD
BEGIN:DAYLIGHT
TZOFFSETFROM:+0100
TZOFFSETTO:+0000
TZNAME:GMT
DTSTART:20231029T010000
END:DAYLIGHT
BEGIN:STANDARD
TZOFFSETFROM:+0000
TZOFFSETTO:+0100
TZNAME:IST
DTSTART:20240331T010000
END:STANDARD
BEGIN:DAYLIGHT
TZOFFSETFROM:+0100
TZOFFSETTO:+0000
TZNAME:GMT
DTSTART:20241027T010000
END:DAYLIGHT
BEGIN:STANDARD
TZOFFSETFROM:+0000
TZOFFSETTO:+0100
TZNAME:IST
DTSTART:20250330T010000
END:STANDARD
BEGIN:DAYLIGHT
TZOFFSETFROM:+0100
TZOFFSETTO:+0000
TZNAME:GMT
DTSTART:20251026T010000
END:DAYLIGHT
END:VTIMEZONE
BEGIN:VEVENT
DTSTART;TZID=Europe/Dublin:20241023T130000
DTEND;TZID=Europe/Dublin:20241023T140000
DTSTAMP:20260422T123304
CREATED:20241023T123132Z
LAST-MODIFIED:20241023T123700Z
UID:10469-1729688400-1729692000@igi.ie
SUMMARY:UCD School of Earth Sciences Seminar
DESCRIPTION:Dr Pablo Rodriguez Salgado will be giving the UCD SES Seminar TODAY at 1–2 pm in E0.61 in the Science Centre on the topic “Unraveling the Cenozoic Exhumation History of the Celtic Sea Basins: A Multidisciplinary Approach”. This should be a fascinating multidisciplinary talk. \nPlease join in person if you’re around\, or for coffee/tea afters\, otherwise tune in via:\nhttps://ucd-ie.zoom.us/j/69852784597?pwd=bePGbNgBlGNc2NyQvz1bUYDd6gYcGL.1\nMeeting ID: 698 5278 4597\nPasscode: 420713
URL:https://igi.ie/event/ucd-school-of-earth-sciences-seminar/
LOCATION:Science Centre\, UCD Dublin\, University College Dublin\, Belfield\, Dublin\, Ireland
CATEGORIES:Event
END:VEVENT
END:VCALENDAR