BEGIN:VCALENDAR
VERSION:2.0
PRODID:-//The Institute of Geologists of Ireland - ECPv6.15.20//NONSGML v1.0//EN
CALSCALE:GREGORIAN
METHOD:PUBLISH
X-WR-CALNAME:The Institute of Geologists of Ireland
X-ORIGINAL-URL:https://igi.ie
X-WR-CALDESC:Events for The Institute of Geologists of Ireland
REFRESH-INTERVAL;VALUE=DURATION:PT1H
X-Robots-Tag:noindex
X-PUBLISHED-TTL:PT1H
BEGIN:VTIMEZONE
TZID:Europe/Dublin
BEGIN:STANDARD
TZOFFSETFROM:+0000
TZOFFSETTO:+0100
TZNAME:IST
DTSTART:20230326T010000
END:STANDARD
BEGIN:DAYLIGHT
TZOFFSETFROM:+0100
TZOFFSETTO:+0000
TZNAME:GMT
DTSTART:20231029T010000
END:DAYLIGHT
BEGIN:STANDARD
TZOFFSETFROM:+0000
TZOFFSETTO:+0100
TZNAME:IST
DTSTART:20240331T010000
END:STANDARD
BEGIN:DAYLIGHT
TZOFFSETFROM:+0100
TZOFFSETTO:+0000
TZNAME:GMT
DTSTART:20241027T010000
END:DAYLIGHT
BEGIN:STANDARD
TZOFFSETFROM:+0000
TZOFFSETTO:+0100
TZNAME:IST
DTSTART:20250330T010000
END:STANDARD
BEGIN:DAYLIGHT
TZOFFSETFROM:+0100
TZOFFSETTO:+0000
TZNAME:GMT
DTSTART:20251026T010000
END:DAYLIGHT
END:VTIMEZONE
BEGIN:VEVENT
DTSTART;VALUE=DATE:20241110
DTEND;VALUE=DATE:20241118
DTSTAMP:20260422T111749
CREATED:20241106T124651Z
LAST-MODIFIED:20241106T124651Z
UID:10511-1731196800-1731887999@igi.ie
SUMMARY:Science Week - 10th - 17th November 2024
DESCRIPTION:Science Week is the 10th to the 17th of November
URL:https://igi.ie/event/science-week-10th-17th-november-2024/
CATEGORIES:Event
END:VEVENT
BEGIN:VEVENT
DTSTART;VALUE=DATE:20241110
DTEND;VALUE=DATE:20241118
DTSTAMP:20260422T111749
CREATED:20241106T130256Z
LAST-MODIFIED:20241106T130256Z
UID:10517-1731196800-1731887999@igi.ie
SUMMARY:Dublin – Exhibit: “Foram: Giving voice to underrepresented groups in Climate Action”
DESCRIPTION:This exhibition runs from the 10th to the 17th November at the National Maritime Museum of Ireland\, Haigh Terrace\, Dun Laoghaire\, and is presented by iCRAG and supported by European Geosciences Union (EGU). \nThere will also be an accompanying talk on Thursday 14th November which is also EGU Geosciences Day.
URL:https://igi.ie/event/dublin-exhibit-foram-giving-voice-to-underrepresented-groups-in-climate-action/
LOCATION:National Maritime Museum of Ireland\, Dún Laoghaire\, Dublin\, Haigh Terrace\, Dun Laoghaire\, Dublin\, Ireland
CATEGORIES:Event
END:VEVENT
BEGIN:VEVENT
DTSTART;VALUE=DATE:20241114
DTEND;VALUE=DATE:20241115
DTSTAMP:20260422T111749
CREATED:20241106T125306Z
LAST-MODIFIED:20241106T125306Z
UID:10514-1731542400-1731628799@igi.ie
SUMMARY:European Geosciences Union (EGU) Geoscience Day
DESCRIPTION:iCRAG selected to host EGU Geoscience Day \n14th November 2024
URL:https://igi.ie/event/european-geosciences-union-egu-geoscience-day/
CATEGORIES:Event
END:VEVENT
BEGIN:VEVENT
DTSTART;TZID=Europe/Dublin:20241114T160000
DTEND;TZID=Europe/Dublin:20241114T190000
DTSTAMP:20260422T111749
CREATED:20241106T130942Z
LAST-MODIFIED:20241106T130942Z
UID:10521-1731600000-1731610800@igi.ie
SUMMARY:Cork – “Fossil Expo”
DESCRIPTION:This free exhibition will be held at the Sustainable Futures Lab\, Iris Ashley Cummins Building\, University College Cork. \nFrom 4pm – 7pm on Thursday 14th November. \nIreland’s Fossil Heritage\, iCRAG\, Science Foundation Ireland and the European Geosciences Union will be marking EGU Geoscience Day with this very interesting exhibition of fossils – which you can see and hold – which will also have fossil-themed games\, puzzles.
URL:https://igi.ie/event/cork-fossil-expo/
LOCATION:Sustainable Futures Lab\, Iris Ashley Cummins Building\, University College Cork\, Civil Engineering Building\, University College\, Cork\, Cork\, Ireland
CATEGORIES:Event
END:VEVENT
END:VCALENDAR