BEGIN:VCALENDAR
VERSION:2.0
PRODID:-//The Institute of Geologists of Ireland - ECPv6.15.20//NONSGML v1.0//EN
CALSCALE:GREGORIAN
METHOD:PUBLISH
X-ORIGINAL-URL:https://igi.ie
X-WR-CALDESC:Events for The Institute of Geologists of Ireland
REFRESH-INTERVAL;VALUE=DURATION:PT1H
X-Robots-Tag:noindex
X-PUBLISHED-TTL:PT1H
BEGIN:VTIMEZONE
TZID:Europe/Dublin
BEGIN:STANDARD
TZOFFSETFROM:+0000
TZOFFSETTO:+0100
TZNAME:IST
DTSTART:20230326T010000
END:STANDARD
BEGIN:DAYLIGHT
TZOFFSETFROM:+0100
TZOFFSETTO:+0000
TZNAME:GMT
DTSTART:20231029T010000
END:DAYLIGHT
BEGIN:STANDARD
TZOFFSETFROM:+0000
TZOFFSETTO:+0100
TZNAME:IST
DTSTART:20240331T010000
END:STANDARD
BEGIN:DAYLIGHT
TZOFFSETFROM:+0100
TZOFFSETTO:+0000
TZNAME:GMT
DTSTART:20241027T010000
END:DAYLIGHT
BEGIN:STANDARD
TZOFFSETFROM:+0000
TZOFFSETTO:+0100
TZNAME:IST
DTSTART:20250330T010000
END:STANDARD
BEGIN:DAYLIGHT
TZOFFSETFROM:+0100
TZOFFSETTO:+0000
TZNAME:GMT
DTSTART:20251026T010000
END:DAYLIGHT
END:VTIMEZONE
BEGIN:VEVENT
DTSTART;TZID=Europe/Dublin:20241118T190000
DTEND;TZID=Europe/Dublin:20241118T190000
DTSTAMP:20260422T111828
CREATED:20241113T141707Z
LAST-MODIFIED:20241113T141750Z
UID:10535-1731956400-1731956400@igi.ie
SUMMARY:Belfast Geologists’ Society Talk
DESCRIPTION:This hybrid talk will be held in person at the QUB Geography Department\, Elmwood Avenue and via Zoom on Monday 18th November at 6:30pm for a 7pm start. \nThe title of the talk is “The vital role of peatlands in the Earth System: Exploring the Past\, Present\, and Future” and it will be given by Prof. Graeme Swindles of QUB. \nMore information can be found at this link The Vital Role of Peatlands in the Earth System:Exploring the Past\,Present and Future – Belfast Geologist’ Society\nIf accessing by Zoom\, please sign in at 6.45pm and the talk will start at 7pm\nJoin Zoom Meeting\nhttps://us06web.zoom.us/j/83981554552?pwd=S69BGb7aOigVOr9Eii5c3xEY5zaEat.1\nMeeting ID: 839 8155 4552\nPasscode: 298868
URL:https://igi.ie/event/belfast-geologists-society-talk-2/
LOCATION:Queen’s University\, Belfast and on Zoom\, Elmwood Avenue\, Belfast\, United Kingdom
CATEGORIES:Event
END:VEVENT
END:VCALENDAR