BEGIN:VCALENDAR
VERSION:2.0
PRODID:-//The Institute of Geologists of Ireland - ECPv6.15.20//NONSGML v1.0//EN
CALSCALE:GREGORIAN
METHOD:PUBLISH
X-ORIGINAL-URL:https://igi.ie
X-WR-CALDESC:Events for The Institute of Geologists of Ireland
REFRESH-INTERVAL;VALUE=DURATION:PT1H
X-Robots-Tag:noindex
X-PUBLISHED-TTL:PT1H
BEGIN:VTIMEZONE
TZID:Europe/Dublin
BEGIN:STANDARD
TZOFFSETFROM:+0000
TZOFFSETTO:+0100
TZNAME:IST
DTSTART:20230326T010000
END:STANDARD
BEGIN:DAYLIGHT
TZOFFSETFROM:+0100
TZOFFSETTO:+0000
TZNAME:GMT
DTSTART:20231029T010000
END:DAYLIGHT
BEGIN:STANDARD
TZOFFSETFROM:+0000
TZOFFSETTO:+0100
TZNAME:IST
DTSTART:20240331T010000
END:STANDARD
BEGIN:DAYLIGHT
TZOFFSETFROM:+0100
TZOFFSETTO:+0000
TZNAME:GMT
DTSTART:20241027T010000
END:DAYLIGHT
BEGIN:STANDARD
TZOFFSETFROM:+0000
TZOFFSETTO:+0100
TZNAME:IST
DTSTART:20250330T010000
END:STANDARD
BEGIN:DAYLIGHT
TZOFFSETFROM:+0100
TZOFFSETTO:+0000
TZNAME:GMT
DTSTART:20251026T010000
END:DAYLIGHT
END:VTIMEZONE
BEGIN:VEVENT
DTSTART;TZID=Europe/Dublin:20241126T100000
DTEND;TZID=Europe/Dublin:20241126T110000
DTSTAMP:20260422T095758
CREATED:20241120T125215Z
LAST-MODIFIED:20241120T125215Z
UID:10562-1732615200-1732618800@igi.ie
SUMMARY:EFG / CEEGS Webinar
DESCRIPTION:European Federation of Geologists\, as a partner of the CEEGS (Novel CO2-based electrothermal energy and geological storage system) EU-funded project\, is thrilled to organise a webinar entitled “Thermodynamic Modelling & Measurements for the CEEGS Demonstration Loop” on Tuesday 26th November 2024\, 10:00-11:00 (11:00-12:00 CET). \nDiscover the latest advancements in thermodynamic modelling and updates from our experimental campaign\, focusing on the instrumentation and measurement of thermodynamic variables for model validation. Participation is free\, more info:\nCEEGS webinar: Thermodynamic Modelling & Measurements | CEEGS Project
URL:https://igi.ie/event/efg-ceegs-webinar/
CATEGORIES:Event
END:VEVENT
BEGIN:VEVENT
DTSTART;TZID=Europe/Dublin:20241126T190000
DTEND;TZID=Europe/Dublin:20241126T190000
DTSTAMP:20260422T095758
CREATED:20241113T142214Z
LAST-MODIFIED:20241113T142214Z
UID:10542-1732647600-1732647600@igi.ie
SUMMARY:IAH Irish Group AGM
DESCRIPTION:The Annual General Meeting (AGM) of the IAH (Irish Group) will take place on Tuesday 26th November 2024 from 19:00 and will be held via Zoom. \nThis is a great opportunity to connect with colleagues\, stay updated on our group’s initiatives\, and contribute your ideas for the future of hydrogeology in Ireland. \nPlease register with IAH in advance for this meeting: Meeting Registration – Zoom
URL:https://igi.ie/event/iah-irish-group-agm/
LOCATION:ZOOM
CATEGORIES:Event
END:VEVENT
END:VCALENDAR