BEGIN:VCALENDAR
VERSION:2.0
PRODID:-//The Institute of Geologists of Ireland - ECPv6.15.20//NONSGML v1.0//EN
CALSCALE:GREGORIAN
METHOD:PUBLISH
X-WR-CALNAME:The Institute of Geologists of Ireland
X-ORIGINAL-URL:https://igi.ie
X-WR-CALDESC:Events for The Institute of Geologists of Ireland
REFRESH-INTERVAL;VALUE=DURATION:PT1H
X-Robots-Tag:noindex
X-PUBLISHED-TTL:PT1H
BEGIN:VTIMEZONE
TZID:Europe/Dublin
BEGIN:STANDARD
TZOFFSETFROM:+0000
TZOFFSETTO:+0100
TZNAME:IST
DTSTART:20230326T010000
END:STANDARD
BEGIN:DAYLIGHT
TZOFFSETFROM:+0100
TZOFFSETTO:+0000
TZNAME:GMT
DTSTART:20231029T010000
END:DAYLIGHT
BEGIN:STANDARD
TZOFFSETFROM:+0000
TZOFFSETTO:+0100
TZNAME:IST
DTSTART:20240331T010000
END:STANDARD
BEGIN:DAYLIGHT
TZOFFSETFROM:+0100
TZOFFSETTO:+0000
TZNAME:GMT
DTSTART:20241027T010000
END:DAYLIGHT
BEGIN:STANDARD
TZOFFSETFROM:+0000
TZOFFSETTO:+0100
TZNAME:IST
DTSTART:20250330T010000
END:STANDARD
BEGIN:DAYLIGHT
TZOFFSETFROM:+0100
TZOFFSETTO:+0000
TZNAME:GMT
DTSTART:20251026T010000
END:DAYLIGHT
END:VTIMEZONE
BEGIN:VEVENT
DTSTART;TZID=Europe/Dublin:20241212T160000
DTEND;TZID=Europe/Dublin:20241212T170000
DTSTAMP:20260422T100510
CREATED:20241127T112756Z
LAST-MODIFIED:20241127T112756Z
UID:10580-1734019200-1734022800@igi.ie
SUMMARY:GSNI Northern Ireland Geothermal Webinar Series
DESCRIPTION:The 10th (and final) webinar of the 2024 Northern Ireland Geothermal Webinar Series will take place on Thursday 12th December 2024 between 16:00 and 17:00. \nThis talk\, entitled “GeoEnergy NI: Unearthing the heat beneath our feet”\, will be given by Michael MacKenzie from the Department for the Economy NI\, who will discuss the GeoEnergy NI projects\, the design and results of both the shallow and deep feasibility studies and the communications strategies driving the GeoEnergy NI projects. \nRegister now at GeoEnergy NI: Unearthing the Heat Beneath Our Feet Tickets\, Thu\, Dec 12\, 2024 at 4:00 PM | Eventbrite
URL:https://igi.ie/event/gsni-northern-ireland-geothermal-webinar-series-6/
LOCATION:Webinar
CATEGORIES:Event
END:VEVENT
END:VCALENDAR