BEGIN:VCALENDAR
VERSION:2.0
PRODID:-//The Institute of Geologists of Ireland - ECPv6.15.20//NONSGML v1.0//EN
CALSCALE:GREGORIAN
METHOD:PUBLISH
X-ORIGINAL-URL:https://igi.ie
X-WR-CALDESC:Events for The Institute of Geologists of Ireland
REFRESH-INTERVAL;VALUE=DURATION:PT1H
X-Robots-Tag:noindex
X-PUBLISHED-TTL:PT1H
BEGIN:VTIMEZONE
TZID:Europe/Dublin
BEGIN:STANDARD
TZOFFSETFROM:+0000
TZOFFSETTO:+0100
TZNAME:IST
DTSTART:20230326T010000
END:STANDARD
BEGIN:DAYLIGHT
TZOFFSETFROM:+0100
TZOFFSETTO:+0000
TZNAME:GMT
DTSTART:20231029T010000
END:DAYLIGHT
BEGIN:STANDARD
TZOFFSETFROM:+0000
TZOFFSETTO:+0100
TZNAME:IST
DTSTART:20240331T010000
END:STANDARD
BEGIN:DAYLIGHT
TZOFFSETFROM:+0100
TZOFFSETTO:+0000
TZNAME:GMT
DTSTART:20241027T010000
END:DAYLIGHT
BEGIN:STANDARD
TZOFFSETFROM:+0000
TZOFFSETTO:+0100
TZNAME:IST
DTSTART:20250330T010000
END:STANDARD
BEGIN:DAYLIGHT
TZOFFSETFROM:+0100
TZOFFSETTO:+0000
TZNAME:GMT
DTSTART:20251026T010000
END:DAYLIGHT
END:VTIMEZONE
BEGIN:VEVENT
DTSTART;TZID=Europe/Dublin:20241213T090000
DTEND;TZID=Europe/Dublin:20241213T090000
DTSTAMP:20260422T100635
CREATED:20241211T113729Z
LAST-MODIFIED:20241211T113729Z
UID:10618-1734080400-1734080400@igi.ie
SUMMARY:iCRAG Research Showcase Event
DESCRIPTION:To mark 10 years of iCRAG\, the Research Ireland Centre for Applied Geosciences\, a research showcase\, “iCRAG@10: Evolving for a Changing World”\, will be held in O’Reilly Hall\, UCD\, Dublin\, on Thursday February 13th\, 2025 at 9:00am. \nMore details about this event and a link to register now can be found at this Eventbrite link iCRAG@10: Evolving for a Changing World Tickets\, Thu 13 Feb 2025 at 09:00 | Eventbrite
URL:https://igi.ie/event/icrag-research-showcase-event/
LOCATION:University College Dublin\, Belfield\, Dublin 4\, Ireland
CATEGORIES:Event
END:VEVENT
END:VCALENDAR