BEGIN:VCALENDAR
VERSION:2.0
PRODID:-//The Institute of Geologists of Ireland - ECPv6.15.20//NONSGML v1.0//EN
CALSCALE:GREGORIAN
METHOD:PUBLISH
X-ORIGINAL-URL:https://igi.ie
X-WR-CALDESC:Events for The Institute of Geologists of Ireland
REFRESH-INTERVAL;VALUE=DURATION:PT1H
X-Robots-Tag:noindex
X-PUBLISHED-TTL:PT1H
BEGIN:VTIMEZONE
TZID:Europe/Dublin
BEGIN:STANDARD
TZOFFSETFROM:+0000
TZOFFSETTO:+0100
TZNAME:IST
DTSTART:20240331T010000
END:STANDARD
BEGIN:DAYLIGHT
TZOFFSETFROM:+0100
TZOFFSETTO:+0000
TZNAME:GMT
DTSTART:20241027T010000
END:DAYLIGHT
BEGIN:STANDARD
TZOFFSETFROM:+0000
TZOFFSETTO:+0100
TZNAME:IST
DTSTART:20250330T010000
END:STANDARD
BEGIN:DAYLIGHT
TZOFFSETFROM:+0100
TZOFFSETTO:+0000
TZNAME:GMT
DTSTART:20251026T010000
END:DAYLIGHT
BEGIN:STANDARD
TZOFFSETFROM:+0000
TZOFFSETTO:+0100
TZNAME:IST
DTSTART:20260329T010000
END:STANDARD
BEGIN:DAYLIGHT
TZOFFSETFROM:+0100
TZOFFSETTO:+0000
TZNAME:GMT
DTSTART:20261025T010000
END:DAYLIGHT
END:VTIMEZONE
BEGIN:VEVENT
DTSTART;TZID=Europe/Dublin:20250114T190000
DTEND;TZID=Europe/Dublin:20250114T190000
DTSTAMP:20260422T084702
CREATED:20250108T104155Z
LAST-MODIFIED:20250108T112126Z
UID:10634-1736881200-1736881200@igi.ie
SUMMARY:Belfast Geologist’s Society Talk: “Finding unmarked graves of all ages across the world”
DESCRIPTION:Joint event with Belfast Naturalists Field Club \nOnline only via Zoom on 14th January 2025 at 7pm\, \n“Finding unmarked graves of all ages across the world” by Benjamin Rocke (QUB) and Dr Alastair Ruffell (QUB and Geological Society NI Regional Group). \nGeology\, soils\, topography and vegetation can all be used with other information to locate unmarked graves: how? \nOne approach would be to have separate specialists conduct ground surveys and combine their results. We have developed another way\, using software modelled drone-derived imagery\, verified on the ground by visual means\, geophysics and in some cases assessment by scent dogs and ultimately\, excavation by qualified archaeologists. The model was developed successfully in Ireland for locating homicide and Irish Famine graves\, then extended to the Americas (Philadelphia\, Colombia) and thence to Kenya and Arctic Sweden. Other workers have used the method in the Middle East. The talk will use case studies from each of the above\, focusing on the human-interest aspects and environments of each\, as opposed to too much on remote sensing and geophysical technology. \nZoom details\nTime: Jan 14\, 2025 07:00 PM Greenwich Mean Time\nJoin Zoom Meeting\nhttps://us06web.zoom.us/j/81289739261?pwd=zBsXxwhTYAlRf7LNilbpJXIDG6grDb.1\nMeeting ID: 812 8973 9261\nPasscode: 346416
URL:https://igi.ie/event/belfast-geologists-society-talk-joint-event-with-belfast-naturalists-field-club/
LOCATION:ZOOM
CATEGORIES:Event
END:VEVENT
END:VCALENDAR