BEGIN:VCALENDAR
VERSION:2.0
PRODID:-//The Institute of Geologists of Ireland - ECPv6.15.20//NONSGML v1.0//EN
CALSCALE:GREGORIAN
METHOD:PUBLISH
X-ORIGINAL-URL:https://igi.ie
X-WR-CALDESC:Events for The Institute of Geologists of Ireland
REFRESH-INTERVAL;VALUE=DURATION:PT1H
X-Robots-Tag:noindex
X-PUBLISHED-TTL:PT1H
BEGIN:VTIMEZONE
TZID:Europe/Dublin
BEGIN:STANDARD
TZOFFSETFROM:+0000
TZOFFSETTO:+0100
TZNAME:IST
DTSTART:20240331T010000
END:STANDARD
BEGIN:DAYLIGHT
TZOFFSETFROM:+0100
TZOFFSETTO:+0000
TZNAME:GMT
DTSTART:20241027T010000
END:DAYLIGHT
BEGIN:STANDARD
TZOFFSETFROM:+0000
TZOFFSETTO:+0100
TZNAME:IST
DTSTART:20250330T010000
END:STANDARD
BEGIN:DAYLIGHT
TZOFFSETFROM:+0100
TZOFFSETTO:+0000
TZNAME:GMT
DTSTART:20251026T010000
END:DAYLIGHT
BEGIN:STANDARD
TZOFFSETFROM:+0000
TZOFFSETTO:+0100
TZNAME:IST
DTSTART:20260329T010000
END:STANDARD
BEGIN:DAYLIGHT
TZOFFSETFROM:+0100
TZOFFSETTO:+0000
TZNAME:GMT
DTSTART:20261025T010000
END:DAYLIGHT
END:VTIMEZONE
BEGIN:VEVENT
DTSTART;TZID=Europe/Dublin:20250121T180000
DTEND;TZID=Europe/Dublin:20250121T193000
DTSTAMP:20260422T084700
CREATED:20241218T103100Z
LAST-MODIFIED:20241218T110237Z
UID:10627-1737482400-1737487800@igi.ie
SUMMARY:Royal Irish Academy / Geological Survey Ireland Lecture
DESCRIPTION:The Royal Irish Academy is pleased to be partnering with Geological Survey Ireland to present a series of annual geoscience lectures. The aim of the lecture series is to raise awareness of geosciences and their relevance to society’s needs and challenges. \nThe inaugural lecture\, entitled “Geoscience Solutions for the Climate Crisis” will be held on Tuesday 21 January 2025 at 6.00pm at the Royal Irish Academy\, 19 Dawson Street\, Dublin 2\, D02 HH58. \nThe lecture will be given by Professor Chris Jackson (Technical Director at the engineering consultancy WSP and Visiting Professor of Basin Analysis at Imperial College London) who will explore how geoscience can support the development of low-carbon energy resources and the important role that geostorage will play in the transition to sustainable energy. \nThe lecture will be followed by a panel discussion with Ireland-based geologists to bring an Irish perspective to the topic. Chris is interested in understanding how we can use the Earth’s subsurface to safely store hazardous waste (‘geostorage’) and to develop low-carbon energy resources (‘geoenergy’). \nWhen not studying what’s beneath his feet\, Chris gives geoscience lectures to the public and in schools\, having appeared on several Earth Science-focused\, television productions and podcasts. Chris is engaged in efforts to improve equality\, diversity\, and inclusivity in Higher Education and society more generally.\n Book your ticket here.
URL:https://igi.ie/event/royal-irish-academy-geological-survey-ireland-lecture/
LOCATION:Royal Irish Academy\, Dublin\, 19 Dawson Street\, Dublin 2\,\, Dublin\, D02 HH58\, Ireland
CATEGORIES:Event
END:VEVENT
BEGIN:VEVENT
DTSTART;TZID=Europe/Dublin:20250121T190000
DTEND;TZID=Europe/Dublin:20250121T190000
DTSTAMP:20260422T084700
CREATED:20250115T172006Z
LAST-MODIFIED:20250115T172006Z
UID:10660-1737486000-1737486000@igi.ie
SUMMARY:Galway Geological Association (GGA) Lecture: “Irish Peat as an Atmospheric Archive”
DESCRIPTION:GGA will be holding a lecture\, via Zoom on Tuesday 21st January at 19:00. \nThe lecture is entitled “Irish Peat as an Atmospheric Archive” and will be given by Dr Lucy Blennerhassett from iCRAG/UCD. \nDr Blennerhassett speaks on new techniques that interrogate the environmental archives provided by bogs in Ireland. \nTo request the Zoom link\, email galwaygeology@gmail.com
URL:https://igi.ie/event/galway-geological-association-gga-lecture-irish-peat-as-an-atmospheric-archive/
LOCATION:ZOOM
CATEGORIES:Event
END:VEVENT
END:VCALENDAR