BEGIN:VCALENDAR
VERSION:2.0
PRODID:-//The Institute of Geologists of Ireland - ECPv6.15.20//NONSGML v1.0//EN
CALSCALE:GREGORIAN
METHOD:PUBLISH
X-ORIGINAL-URL:https://igi.ie
X-WR-CALDESC:Events for The Institute of Geologists of Ireland
REFRESH-INTERVAL;VALUE=DURATION:PT1H
X-Robots-Tag:noindex
X-PUBLISHED-TTL:PT1H
BEGIN:VTIMEZONE
TZID:Europe/Dublin
BEGIN:STANDARD
TZOFFSETFROM:+0000
TZOFFSETTO:+0100
TZNAME:IST
DTSTART:20240331T010000
END:STANDARD
BEGIN:DAYLIGHT
TZOFFSETFROM:+0100
TZOFFSETTO:+0000
TZNAME:GMT
DTSTART:20241027T010000
END:DAYLIGHT
BEGIN:STANDARD
TZOFFSETFROM:+0000
TZOFFSETTO:+0100
TZNAME:IST
DTSTART:20250330T010000
END:STANDARD
BEGIN:DAYLIGHT
TZOFFSETFROM:+0100
TZOFFSETTO:+0000
TZNAME:GMT
DTSTART:20251026T010000
END:DAYLIGHT
BEGIN:STANDARD
TZOFFSETFROM:+0000
TZOFFSETTO:+0100
TZNAME:IST
DTSTART:20260329T010000
END:STANDARD
BEGIN:DAYLIGHT
TZOFFSETFROM:+0100
TZOFFSETTO:+0000
TZNAME:GMT
DTSTART:20261025T010000
END:DAYLIGHT
END:VTIMEZONE
BEGIN:VEVENT
DTSTART;TZID=Europe/Dublin:20250211T070000
DTEND;TZID=Europe/Dublin:20250211T130000
DTSTAMP:20260422T073756
CREATED:20250129T092818Z
LAST-MODIFIED:20250129T092818Z
UID:10702-1739257200-1739278800@igi.ie
SUMMARY:EFG TRiPGiFT Erasmus Conference
DESCRIPTION:The European Federation of Geologists (EFG)\, as a partner of the TRIPGIFT Erasmus+ project\, announces its Final Conference: \n‘Training pupils on geosciences through Virtual Field Trips’ \non 11 February 2025 in Greece. \nThe conference will be also live-streamed on YouTube\, allowing participants to attend online. During this event\, EFG External Relations Officer Pavlos Tyrologou will give a welcome speech representing EFG\, and EFG Coordinator of the Panel of Experts on Education Maria Tzima will provide a comprehensive presentation on EFG’s activities and involvement in the TRiPGiFT project. \nWHEN: 11 February 2025\, 09:00-15:00 (Greek Time) / 07:00 – 13:00 (Irish Time)\nWHERE: Hellenic Survey of Geology and Mineral Exploration\, Spyrou Loyi 1\, Acharnes\, Athens – https://maps.app.goo.gl/n2Ysjyr8pMQdWzDr5\nLIVE STREAM: https://www.youtube.com/@tripgift \nTOPICS OF DISCUSSION:\n– Innovative educational methodologies and tools from TRiPGiFT\n– Best practices in geoscience education\n– The role of Virtual Reality (VR) and Augmented Reality (AR) in teaching \nWHO SHOULD ATTEND?\nEducators\, teachers\, parents\, students\, NGOs\, and public organizations interested in geoscience education. \nWHY ATTENDING?\n– Gain insights into advanced geoscience education methods.\n– Engage in fruitful discussions and idea-sharing.\n– Receive a Certificate of Attendance. \nREGISTER NOW: https://forms.gle/Toewu659x6YFP2328 \nAGENDA: Available soon on the TRiPGiFT website (https://tripgift.eu)
URL:https://igi.ie/event/efg-tripgift-erasmus-conference/
LOCATION:Hellenic Survey of Geology and Mineral Exploration\, Spyrou Loyi 1\, Acharnes\, Athens\, Spyrou Loyi 1\, Acharnes\, Athens\, Greece
CATEGORIES:Conferences,Event
END:VEVENT
END:VCALENDAR