BEGIN:VCALENDAR
VERSION:2.0
PRODID:-//The Institute of Geologists of Ireland - ECPv6.15.20//NONSGML v1.0//EN
CALSCALE:GREGORIAN
METHOD:PUBLISH
X-WR-CALNAME:The Institute of Geologists of Ireland
X-ORIGINAL-URL:https://igi.ie
X-WR-CALDESC:Events for The Institute of Geologists of Ireland
REFRESH-INTERVAL;VALUE=DURATION:PT1H
X-Robots-Tag:noindex
X-PUBLISHED-TTL:PT1H
BEGIN:VTIMEZONE
TZID:Europe/Dublin
BEGIN:STANDARD
TZOFFSETFROM:+0000
TZOFFSETTO:+0100
TZNAME:IST
DTSTART:20240331T010000
END:STANDARD
BEGIN:DAYLIGHT
TZOFFSETFROM:+0100
TZOFFSETTO:+0000
TZNAME:GMT
DTSTART:20241027T010000
END:DAYLIGHT
BEGIN:STANDARD
TZOFFSETFROM:+0000
TZOFFSETTO:+0100
TZNAME:IST
DTSTART:20250330T010000
END:STANDARD
BEGIN:DAYLIGHT
TZOFFSETFROM:+0100
TZOFFSETTO:+0000
TZNAME:GMT
DTSTART:20251026T010000
END:DAYLIGHT
BEGIN:STANDARD
TZOFFSETFROM:+0000
TZOFFSETTO:+0100
TZNAME:IST
DTSTART:20260329T010000
END:STANDARD
BEGIN:DAYLIGHT
TZOFFSETFROM:+0100
TZOFFSETTO:+0000
TZNAME:GMT
DTSTART:20261025T010000
END:DAYLIGHT
END:VTIMEZONE
BEGIN:VEVENT
DTSTART;VALUE=DATE:20250802
DTEND;VALUE=DATE:20250804
DTSTAMP:20260421T235541
CREATED:20250514T133346Z
LAST-MODIFIED:20250514T133346Z
UID:10978-1754092800-1754265599@igi.ie
SUMMARY:Joint IGA / BGS Excursion
DESCRIPTION:The Irish Geological Association and the British Geological Survey /GSNI will be holding a Weekend Excursion on the 2nd and 3rd August 2025 around the areas of Strangford and Belfast Loughs. \nThe fieldtrip is entitled “Please Mind the Gap – Groundwater Flow through Permo-Triassic rocks of Northern Ireland” and it will be led by Dr Mark Cooper of GSNI. \nMore information on what the field excursion will cover\, an itinerary and a link to the booking form can be found on the IGA website at Irish Geological Association | Welcome to amateurs and professionals!
URL:https://igi.ie/event/joint-iga-bgs-excursion/
LOCATION:Strangford and Belfast Loughs\, Co Down\, Belfast\, United Kingdom
CATEGORIES:Event
END:VEVENT
END:VCALENDAR